BEGIN:VCALENDAR
VERSION:2.0
PRODID:-//Keeps the Fire - ECPv6.15.20//NONSGML v1.0//EN
CALSCALE:GREGORIAN
METHOD:PUBLISH
X-WR-CALNAME:Keeps the Fire
X-ORIGINAL-URL:https://keepsthefire.org
X-WR-CALDESC:Events for Keeps the Fire
REFRESH-INTERVAL;VALUE=DURATION:PT1H
X-Robots-Tag:noindex
X-PUBLISHED-TTL:PT1H
BEGIN:VTIMEZONE
TZID:America/Mexico_City
BEGIN:STANDARD
TZOFFSETFROM:-0600
TZOFFSETTO:-0600
TZNAME:CST
DTSTART:20240101T000000
END:STANDARD
END:VTIMEZONE
BEGIN:VEVENT
DTSTART;VALUE=DATE:20251118
DTEND;VALUE=DATE:20251203
DTSTAMP:20260420T124717
CREATED:20250408T220403Z
LAST-MODIFIED:20250417T214338Z
UID:9001-1763424000-1764719999@keepsthefire.org
SUMMARY:SPA Pilgrimage
DESCRIPTION:This is a closed specialized program.\nAfter becoming a mara’akame\, Don David Wiley took on a sacred commitment—mandas made not only with his words\, but with his heart\, his feet\, and his life. Each year\, he has walked the ancient trails to Wirikuta\, the sacred desert nestled in the mountains of central Mexico\, a place the Wixárika people revere as the birthplace of the world. \n \nThis pilgrimage is no simple journey. It is a return\, a reweaving of relationship with the ancestors\, with the Sacred Sites\, with Fire\, and with Divine. For the Wixaritari\, this path is a living thread that sustains their tradition\, their identity\, and their understanding of life. For Don David\, it is also an act of profound devotion—a personal offering of love\, respect\, and fidelity to the sacred agreements made when he was initiated. \nToday\, Don David serves as the attending shaman for Grupo Tatewari\, guiding other mara’akate in this yearly pilgrimage to fulfill their own mandas. With each step\, he not only renews his personal commitment\, but also holds space and spiritual direction for those walking beside him—ensuring that the sacred teachings\, the ceremonial precision\, and the heartfelt devotion of this ancestral path are preserved\, honored\, and passed on with integrity as Grandfather Fire has instructed. \nThis deepening of commitment is made possible under the care and guidance of Don Efren González\, a respected elder Wixárika mara’akame\, who is teaching and accompanying Don David and the group to ensure their experiences are not only authentic\, but rooted in the real transmission of the tradition. Don Efren’s presence brings wisdom\, depth\, and spiritual authority\, helping the group to grow in clarity\, humility\, and devotion\, while strengthening their healing work and understanding of the ancient ways. \nIt’s important to note that this pilgrimage is not open to the public. It is a sacred commitment reserved exclusively for initiated mara’akate who have been entrusted with this responsibility as part of their ongoing spiritual training and service. \nYear after year\, through sun and silence\, dust and stars\, Don David walks with the prayer of continuity in his chest—honoring not just the steps of the elders who came before\, but also carrying the prayers of those who may never see those mountains. Each pilgrimage is a renewal of his spiritual covenant—an expression of gratitude and humility\, and a testament to the unshakable relationship he holds with the wisdom of the ancestors and the sacred geography of this world. \nIn walking these ancient paths and leading others upon them\, Don David reminds us that commitment to the sacred is not a one-time promise—it is a lifelong dance with mystery\, duty\, and love. \nThis pilgrimage starts and ends in Casa Xiuhtecuhtli.
URL:https://keepsthefire.org/event/spa-2025/
LOCATION:Casa Xiuhtecuhtli\, La Presa 200\, Tepoztlan\, Morelos\, 62520\, Mexico
CATEGORIES:Sacred Sites,Specialized Pilgrimage,Traditions,Wixárika Pilgrimage,Wixárika Tradition
ATTACH;FMTTYPE=image/jpeg:https://keepsthefire.org/wp-content/uploads/2025/04/wirikuta.jpg
END:VEVENT
BEGIN:VEVENT
DTSTART;VALUE=DATE:20251203
DTEND;VALUE=DATE:20251205
DTSTAMP:20260420T124717
CREATED:20250404T195249Z
LAST-MODIFIED:20250408T213304Z
UID:8938-1764720000-1764892799@keepsthefire.org
SUMMARY:Kawiterutsirri  In- Person Meetings
DESCRIPTION:This is a closed\, specialized event\, hosted by Grupo Tatewari Council of Elders\, known as the Kawiterutsirri.\nThe Kawiterutsirri are the esteemed council of elders of Grupo Tatewari\, a collective of devoted Westerners walking the sacred path of traditional medicine within the timeless Wixárika lineage. In every Wixárika community\, Kawiterutsirri is the name given to the Council of Elders—those who embody wisdom\, experience\, and spiritual authority. In Grupo Tatewari\, this name has been given in recognition of the responsibility and sacred trust these elders carry as they guide the path forward. \nEach member of the Kawiterutsirri has undergone years of disciplined training\, pilgrimages\, and initiations under the direct instruction of Grandfather Fire\, the first and original shaman. It is Grandfather who called them to this path\, led them to the ancestral lands of the Sierra Madre Mountains in Mexico\, and who continues to guide their steps\, decisions\, and prayers. \nAs initiated mara’akate—traditional healers\, counselors\, and ritual leaders—they are recognized by the Wixárika Kawiterutsirri in the Sierra and have been entrusted with the sacred duty of helping modern people find healing\, purpose\, and reconnection through this living tradition. \nThe Kawiterutsirri serve not just as spiritual leaders but as guardians of sacred values—honor\, respect\, responsibility\, and right relationship. Everything they do arises from these principles\, rooted in a commitment to walk with humility\, integrity\, and deep listening to the land\, the ancestors\, the spirits\, and to each other. \nThough they live in different regions across North and Central America\, the Kawiterutsirri remain closely connected\, gathering regularly via Zoom and meeting in person before or after pilgrimages\, ceremonies\, or trainings. These councils allow them to align their work and discern Grandfather Fire’s will for the ongoing unfolding of this sacred path. \nAs bridges between worlds—ancient and contemporary\, seen and unseen—the Kawiterutsirri of Grupo Tatewari carry the fire forward\, so it may continue to illuminate lives\, heal hearts\, and inspire new generations to walk in beauty\, balance\, and reverence.
URL:https://keepsthefire.org/event/kawi-meet-dec-3-4/
LOCATION:Casa Xiuhtecuhtli\, La Presa 200\, Tepoztlan\, Morelos\, 62520\, Mexico
CATEGORIES:Council of Elders,Kawiterutsirri,Traditions,Wixárika Tradition
ATTACH;FMTTYPE=image/png:https://keepsthefire.org/wp-content/uploads/2025/04/mk.png
END:VEVENT
BEGIN:VEVENT
DTSTART;TZID=America/Mexico_City:20251206T090000
DTEND;TZID=America/Mexico_City:20251206T180000
DTSTAMP:20260420T124717
CREATED:20250404T192222Z
LAST-MODIFIED:20250404T192330Z
UID:8935-1765011600-1765044000@keepsthefire.org
SUMMARY:In-Person Healing Day in Tepoztlán\, Morelos. México
DESCRIPTION:This is an open program\, hosted by Don David Wiley’s Consultorio.\nThis is the last healing day of the year!\nAn In-Person Healing Day with Don David Wiley offers a profound opportunity for individuals to engage in deep\, transformative healing rooted in ancient indigenous traditions. As an initiated healer in both the Nahua and Wixárika (Huichol) traditions of Mexico\, Don David brings a wealth of ancestral wisdom to address the complexities of modern life. During these sessions\, participants receive personalized attention tailored to their unique healing needs. \nDon David employs traditional shamanic practices to help individuals confront and release long-standing issues\, facilitating a reconnection with their inner selves and the natural world. This process often leads to significant shifts across physical\, emotional\, mental\, and spiritual domains. \nThe healing environment is further enriched by the presence of sacred elements such as Fire and the natural surroundings\, which are integral to the Wixárika healing tradition. These elements serve to support and amplify the healing process\, fostering a sense of balance and harmony. Participants often report profound transformations\, including a renewed sense of purpose\, alleviation of emotional burdens\, and enhanced spiritual awareness. \nEngaging in a Healing Day with Don David Wiley provides not just temporary relief but also equips individuals with insights and practices for sustained well-being. \nContact Consultorio to schedule an appointment.  
URL:https://keepsthefire.org/event/px-day-tepoz-dec-6-2025/
LOCATION:Casa Xiuhtecuhtli\, La Presa 200\, Tepoztlan\, Morelos\, 62520\, Mexico
CATEGORIES:Healing Work,In-Person Healing Sessions,Wixárika Shamanic Healing,Wixárika Tradition
ATTACH;FMTTYPE=image/jpeg:https://keepsthefire.org/wp-content/uploads/2025/04/healing-day-setup-tuki.jpeg
ORGANIZER;CN="Don David Wiley's Consultorio":MAILTO:consultorio@keepsthefire.org
END:VEVENT
END:VCALENDAR