BEGIN:VCALENDAR
VERSION:2.0
PRODID:-//Keeps the Fire - ECPv6.15.20//NONSGML v1.0//EN
CALSCALE:GREGORIAN
METHOD:PUBLISH
X-WR-CALNAME:Keeps the Fire
X-ORIGINAL-URL:https://keepsthefire.org
X-WR-CALDESC:Events for Keeps the Fire
REFRESH-INTERVAL;VALUE=DURATION:PT1H
X-Robots-Tag:noindex
X-PUBLISHED-TTL:PT1H
BEGIN:VTIMEZONE
TZID:America/Mexico_City
BEGIN:STANDARD
TZOFFSETFROM:-0600
TZOFFSETTO:-0600
TZNAME:CST
DTSTART:20240101T000000
END:STANDARD
END:VTIMEZONE
BEGIN:VEVENT
DTSTART;TZID=America/Mexico_City:20251015T080000
DTEND;TZID=America/Mexico_City:20251021T170000
DTSTAMP:20260420T124647
CREATED:20250408T232247Z
LAST-MODIFIED:20250417T231853Z
UID:9033-1760515200-1761066000@keepsthefire.org
SUMMARY:Family Time
DESCRIPTION:Honoring Balance:\nA Life in Right Relationship\nIn a world that often glorifies constant productivity\, Don David Wiley stands as a living testament to a different way of being—one rooted in the wisdom of tradition\, the cycles of nature\, and devotion to Divine. As a ceremonial leader and guide\, his life is shaped by deep spiritual commitment. Yet\, he also embodies the crucial teaching that true service must include balance. \nMaking time for family\, rest\, and personal renewal is not separate from the sacred—it is part of it. This is an essential expression of LifeWays\, a way of living that honors all aspects of existence in their rightful place. \nDuring this time\, Don David will be unavailable\, as he turns inward to nourish his relationships and well-being—tending the fire at home as he does for the world. \n  \nDon David Wiley is unavailable during this private family time\, honoring the sacred balance of rest\, tradition\, and commitment to LifeWays.
URL:https://keepsthefire.org/event/annual-timeout/
LOCATION:Morelos
ATTACH;FMTTYPE=image/jpeg:https://keepsthefire.org/wp-content/uploads/2025/04/feria-del-ponche-tradicional-en-tepoztlan-tepozteco.jpg
END:VEVENT
BEGIN:VEVENT
DTSTART;VALUE=DATE:20251023
DTEND;VALUE=DATE:20251031
DTSTAMP:20260420T124647
CREATED:20250408T231930Z
LAST-MODIFIED:20250408T232041Z
UID:9030-1761177600-1761868799@keepsthefire.org
SUMMARY:Tepahtiani Training: Chalma-Chalcatzingo Pilgrimage
DESCRIPTION:This is a closed specialized program.\nOnly initiated Graniceros can apply to become Tepahtiani. \nHis program is lead by Don David Wiley\, supported by his office. \n  \n 
URL:https://keepsthefire.org/event/tt-chalma-chalcatzingo-pil/
LOCATION:Casa Xiuhtecuhtli\, La Presa 200\, Tepoztlan\, Morelos\, 62520\, Mexico
CATEGORIES:Nahua Shamanic Healing,Sacred Sites,Tepahtiani Classes,Tepahtiani Pilgrimage,Traditions
ATTACH;FMTTYPE=image/jpeg:https://keepsthefire.org/wp-content/uploads/2025/04/dji_0041-e1744154330516.jpg
ORGANIZER;CN="Don David Wiley's Consultorio":MAILTO:consultorio@keepsthefire.org
END:VEVENT
END:VCALENDAR