BEGIN:VCALENDAR
VERSION:2.0
PRODID:-//Keeps the Fire - ECPv6.15.20//NONSGML v1.0//EN
CALSCALE:GREGORIAN
METHOD:PUBLISH
X-ORIGINAL-URL:https://keepsthefire.org
X-WR-CALDESC:Events for Keeps the Fire
REFRESH-INTERVAL;VALUE=DURATION:PT1H
X-Robots-Tag:noindex
X-PUBLISHED-TTL:PT1H
BEGIN:VTIMEZONE
TZID:America/Mexico_City
BEGIN:STANDARD
TZOFFSETFROM:-0600
TZOFFSETTO:-0600
TZNAME:CST
DTSTART:20240101T000000
END:STANDARD
END:VTIMEZONE
BEGIN:VEVENT
DTSTART;TZID=America/Mexico_City:20251013T100000
DTEND;TZID=America/Mexico_City:20251013T180000
DTSTAMP:20260420T125047
CREATED:20250404T181809Z
LAST-MODIFIED:20250407T174018Z
UID:8912-1760349600-1760378400@keepsthefire.org
SUMMARY:In Service: Voluntary Mentorship & Guidance
DESCRIPTION:Mentoring Calls\nAs part of his sacred service\, Don David Wiley dedicates monthly and bi-weekly mentoring and counseling sessions to those who lead organizations and endeavors sparked by Grandfather Fire—such as Sacred Fire and its many branches of spiritual work. Though his time is incredibly limited\, Don David selflessly volunteers these sessions to ensure that the flame of Grandfather’s guidance continues to illuminate the path for others.\nHis mentorship helps anchor offerings like Firekeeping in alignment with Grandfather Fire’s wisdom. This support ensures that the reach of this medicine continues to expand\, making it available to all who feel the call of Fire stirring within them. \nWorking closely with long-time community members such as Annie King—who has been instrumental in designing and implementing the Firekeeping training programs\, facilitations\, and retreats—Don David continues to weave together a living legacy of support\, connection\, and transformation. \nHe also offers regular mentoring to the Executive Director of Sacred Fire\, helping navigate the complex responsibilities of leading such a revolutionary endeavor. Through this guidance\, the sacred work of reigniting humanity’s relationship with the medicine of Fire is sustained and strengthened. \nAdditionally\, Don David offers volunteer mentorship to the Tsantawu Men’s Council\, which oversees the biannual rituals at Stone Mountain. These rituals are dedicated to cultivating relationship with the land\, ancestral beings\, and the seasonal rains—a vital act of reciprocity and spiritual stewardship. \nThough unseen by many\, these efforts are essential threads in the living fabric of spiritual reconnection that Don David helps sustain. His dedication is a reminder that true leadership is rooted in service\, and that sacred work continues quietly and powerfully behind the scenes\, fueled by love\, commitment\, and the wisdom of Fire.
URL:https://keepsthefire.org/event/vol-oct-13-2025/
LOCATION:Council House – Carrollton\, Georgia\, 142 Hamp Chappell Rd\, Carrollton\, GA\, 30116\, United States
CATEGORIES:Grandfather Fire,Mentoring,Sacred Fire,Traditions,Volunteer Work
ATTACH;FMTTYPE=image/jpeg:https://keepsthefire.org/wp-content/uploads/2025/04/voluntary-work.jpg
ORGANIZER;CN="Don David Wiley's Consultorio":MAILTO:consultorio@keepsthefire.org
END:VEVENT
BEGIN:VEVENT
DTSTART;TZID=America/Mexico_City:20251013T160000
DTEND;TZID=America/Mexico_City:20251013T180000
DTSTAMP:20260420T125047
CREATED:20250403T205933Z
LAST-MODIFIED:20250407T172747Z
UID:8797-1760371200-1760378400@keepsthefire.org
SUMMARY:Postgrad Online Class Y2 S9
DESCRIPTION:This is a closed program\, available only to initiated Tepahtiani practitioners.\nTo become a Tepahtiani\, one must first be initiated as a Granicero.\nNow in its second year\, this ongoing online program offers Tepahtiani graduates a monthly space to ask questions\, deepen their practice\, and remain spiritually connected with Don David. \nIt is also a sacred opportunity for Don David to pass on the wisdom entrusted to him by Don Lucio Campos Elizalde\, as well as to share the guidance he receives from Tatewarí when he is in the workshop and Grandfather Fire speaks. \n  \n  \n\nIf you feel genuinely called to Weather Work\, please reach out to Alison Gayek\, Chief of the Graniceros:\n📧 workingforweather@keepsthefire.org \n  \n 
URL:https://keepsthefire.org/event/postgrad-online-class-y2-s9/
LOCATION:Council House – Carrollton\, Georgia\, 142 Hamp Chappell Rd\, Carrollton\, GA\, 30116\, United States
CATEGORIES:Continuous Learning,Nahua Shamanic Healing,Nahua Tradition,Tepahtiani Classes,Traditions
ATTACH;FMTTYPE=image/png:https://keepsthefire.org/wp-content/uploads/2025/04/screenshot-2025-04-03-at-1.02.58p.m.png
ORGANIZER;CN="Don David Wiley's Consultorio":MAILTO:consultorio@keepsthefire.org
END:VEVENT
BEGIN:VEVENT
DTSTART;TZID=America/Mexico_City:20251014T100000
DTEND;TZID=America/Mexico_City:20251014T160000
DTSTAMP:20260420T125047
CREATED:20250404T181915Z
LAST-MODIFIED:20250407T175859Z
UID:8914-1760436000-1760457600@keepsthefire.org
SUMMARY:Continuous Education Prep - Traditional Medicine Paths
DESCRIPTION:Curriculum design & planning\nBridging the vast and often forgotten ancestral wisdom of indigenous traditions with the Western modern world is a monumental task in itself. Yet Don David Wiley has taken on this sacred mission\, facing countless ongoing challenges to design and deliver programs that are not only tangible and replicable\, but that carry the weight and authenticity of true spiritual teachings.\nWhat makes this even more profound is the care with which Don David ensures that what is shared is exactly what needs to be shared—stripped of anything superfluous or misleading\, and offered with clear intention. He has had to navigate the assumptions and filters of contemporary\, educated minds\, which often believe they already understand how life works. In contrast\, Don David invites students to unlearn\, to return to a deeper way of knowing rooted in direct relationship with Divine\, nature\, and the sacred. \nMuch of this knowledge was originally passed down through oral tradition—shared from one generation to the next\, in sacred trust. Don David has found powerful ways to bring these teachings into the modern world without compromising their essence. Surfing between realms\, he draws what is needed from the intangible into the tangible—bridging spirit and form with clarity and purpose. \nAfter his intense training\, apprenticeship\, and initiations with living teachers in both the Nahua and Wixárika traditions\, Don David has now successfully trained the first generations of Western shamanic healers: Tepahtiani & Mara’akate. These pioneers have taken their place in the living web of healing and service. \nToday\, Don David is supported by a devoted team in both traditions—people who are helping him structure what can now be recognized as a curriculum of spiritual training. These teachings span different levels of commitment and engagement\, guiding those whose souls are being called back to the basics: to ancestral knowledge\, lived wisdom\, and real practices that can restore balance\, not only within individuals\, but across communities\, lands\, and generations. \nWe offer our deepest gratitude to Don David’s teaching assistants\, who provide him with invaluable support and help carry this great work forward. A heartfelt shout-out to each of you—for the unseen and sacred service you embody. \n 
URL:https://keepsthefire.org/event/medpaths-oct-14-2025/
LOCATION:Council House – Carrollton\, Georgia\, 142 Hamp Chappell Rd\, Carrollton\, GA\, 30116\, United States
CATEGORIES:Nahua Shamanic Healing,Traditions,Tuki Fiesta,Weather Work Ceremonies
ATTACH;FMTTYPE=image/jpeg:https://keepsthefire.org/wp-content/uploads/2025/04/ta-planing-e1743785677719.jpg
ORGANIZER;CN="Don David Wiley's Consultorio":MAILTO:consultorio@keepsthefire.org
END:VEVENT
BEGIN:VEVENT
DTSTART;TZID=America/Mexico_City:20251015T080000
DTEND;TZID=America/Mexico_City:20251021T170000
DTSTAMP:20260420T125048
CREATED:20250408T232247Z
LAST-MODIFIED:20250417T231853Z
UID:9033-1760515200-1761066000@keepsthefire.org
SUMMARY:Family Time
DESCRIPTION:Honoring Balance:\nA Life in Right Relationship\nIn a world that often glorifies constant productivity\, Don David Wiley stands as a living testament to a different way of being—one rooted in the wisdom of tradition\, the cycles of nature\, and devotion to Divine. As a ceremonial leader and guide\, his life is shaped by deep spiritual commitment. Yet\, he also embodies the crucial teaching that true service must include balance. \nMaking time for family\, rest\, and personal renewal is not separate from the sacred—it is part of it. This is an essential expression of LifeWays\, a way of living that honors all aspects of existence in their rightful place. \nDuring this time\, Don David will be unavailable\, as he turns inward to nourish his relationships and well-being—tending the fire at home as he does for the world. \n  \nDon David Wiley is unavailable during this private family time\, honoring the sacred balance of rest\, tradition\, and commitment to LifeWays.
URL:https://keepsthefire.org/event/annual-timeout/
LOCATION:Morelos
ATTACH;FMTTYPE=image/jpeg:https://keepsthefire.org/wp-content/uploads/2025/04/feria-del-ponche-tradicional-en-tepoztlan-tepozteco.jpg
END:VEVENT
END:VCALENDAR