BEGIN:VCALENDAR
VERSION:2.0
PRODID:-//Keeps the Fire - ECPv6.15.20//NONSGML v1.0//EN
CALSCALE:GREGORIAN
METHOD:PUBLISH
X-WR-CALNAME:Keeps the Fire
X-ORIGINAL-URL:https://keepsthefire.org
X-WR-CALDESC:Events for Keeps the Fire
REFRESH-INTERVAL;VALUE=DURATION:PT1H
X-Robots-Tag:noindex
X-PUBLISHED-TTL:PT1H
BEGIN:VTIMEZONE
TZID:America/Mexico_City
BEGIN:STANDARD
TZOFFSETFROM:-0600
TZOFFSETTO:-0600
TZNAME:CST
DTSTART:20240101T000000
END:STANDARD
END:VTIMEZONE
BEGIN:VEVENT
DTSTART;TZID=America/Mexico_City:20251006T100000
DTEND;TZID=America/Mexico_City:20251006T180000
DTSTAMP:20260420T111511
CREATED:20250404T181717Z
LAST-MODIFIED:20250407T174024Z
UID:8910-1759744800-1759773600@keepsthefire.org
SUMMARY:In Service: Voluntary Mentorship & Guidance
DESCRIPTION:Mentoring Calls\nAs part of his sacred service\, Don David Wiley dedicates monthly and bi-weekly mentoring and counseling sessions to those who lead organizations and endeavors sparked by Grandfather Fire—such as Sacred Fire and its many branches of spiritual work. Though his time is incredibly limited\, Don David selflessly volunteers these sessions to ensure that the flame of Grandfather’s guidance continues to illuminate the path for others.\nHis mentorship helps anchor offerings like Firekeeping in alignment with Grandfather Fire’s wisdom. This support ensures that the reach of this medicine continues to expand\, making it available to all who feel the call of Fire stirring within them. \nWorking closely with long-time community members such as Annie King—who has been instrumental in designing and implementing the Firekeeping training programs\, facilitations\, and retreats—Don David continues to weave together a living legacy of support\, connection\, and transformation. \nHe also offers regular mentoring to the Executive Director of Sacred Fire\, helping navigate the complex responsibilities of leading such a revolutionary endeavor. Through this guidance\, the sacred work of reigniting humanity’s relationship with the medicine of Fire is sustained and strengthened. \nAdditionally\, Don David offers volunteer mentorship to the Tsantawu Men’s Council\, which oversees the biannual rituals at Stone Mountain. These rituals are dedicated to cultivating relationship with the land\, ancestral beings\, and the seasonal rains—a vital act of reciprocity and spiritual stewardship. \nThough unseen by many\, these efforts are essential threads in the living fabric of spiritual reconnection that Don David helps sustain. His dedication is a reminder that true leadership is rooted in service\, and that sacred work continues quietly and powerfully behind the scenes\, fueled by love\, commitment\, and the wisdom of Fire.
URL:https://keepsthefire.org/event/vol-oct-6-2025/
LOCATION:Council House – Carrollton\, Georgia\, 142 Hamp Chappell Rd\, Carrollton\, GA\, 30116\, United States
CATEGORIES:Grandfather Fire,Mentoring,Sacred Fire,Traditions,Volunteer Work
ATTACH;FMTTYPE=image/jpeg:https://keepsthefire.org/wp-content/uploads/2025/04/voluntary-work.jpg
ORGANIZER;CN="Don David Wiley's Consultorio":MAILTO:consultorio@keepsthefire.org
END:VEVENT
BEGIN:VEVENT
DTSTART;TZID=America/Mexico_City:20251007T100000
DTEND;TZID=America/Mexico_City:20251007T160000
DTSTAMP:20260420T111511
CREATED:20250404T181634Z
LAST-MODIFIED:20250407T175939Z
UID:8908-1759831200-1759852800@keepsthefire.org
SUMMARY:Continuous Education Prep - Traditional Medicine Paths
DESCRIPTION:Curriculum design & planning\nBridging the vast and often forgotten ancestral wisdom of indigenous traditions with the Western modern world is a monumental task in itself. Yet Don David Wiley has taken on this sacred mission\, facing countless ongoing challenges to design and deliver programs that are not only tangible and replicable\, but that carry the weight and authenticity of true spiritual teachings.\nWhat makes this even more profound is the care with which Don David ensures that what is shared is exactly what needs to be shared—stripped of anything superfluous or misleading\, and offered with clear intention. He has had to navigate the assumptions and filters of contemporary\, educated minds\, which often believe they already understand how life works. In contrast\, Don David invites students to unlearn\, to return to a deeper way of knowing rooted in direct relationship with Divine\, nature\, and the sacred. \nMuch of this knowledge was originally passed down through oral tradition—shared from one generation to the next\, in sacred trust. Don David has found powerful ways to bring these teachings into the modern world without compromising their essence. Surfing between realms\, he draws what is needed from the intangible into the tangible—bridging spirit and form with clarity and purpose. \nAfter his intense training\, apprenticeship\, and initiations with living teachers in both the Nahua and Wixárika traditions\, Don David has now successfully trained the first generations of Western shamanic healers: Tepahtiani & Mara’akate. These pioneers have taken their place in the living web of healing and service. \nToday\, Don David is supported by a devoted team in both traditions—people who are helping him structure what can now be recognized as a curriculum of spiritual training. These teachings span different levels of commitment and engagement\, guiding those whose souls are being called back to the basics: to ancestral knowledge\, lived wisdom\, and real practices that can restore balance\, not only within individuals\, but across communities\, lands\, and generations. \nWe offer our deepest gratitude to Don David’s teaching assistants\, who provide him with invaluable support and help carry this great work forward. A heartfelt shout-out to each of you—for the unseen and sacred service you embody. \n 
URL:https://keepsthefire.org/event/medpaths-oct-7-2025/
LOCATION:Council House – Carrollton\, Georgia\, 142 Hamp Chappell Rd\, Carrollton\, GA\, 30116\, United States
CATEGORIES:Nahua Shamanic Healing,Traditions,Tuki Fiesta,Weather Work Ceremonies
ATTACH;FMTTYPE=image/jpeg:https://keepsthefire.org/wp-content/uploads/2025/04/ta-planing-e1743785677719.jpg
ORGANIZER;CN="Don David Wiley's Consultorio":MAILTO:consultorio@keepsthefire.org
END:VEVENT
BEGIN:VEVENT
DTSTART;VALUE=DATE:20251007
DTEND;VALUE=DATE:20251009
DTSTAMP:20260420T111511
CREATED:20250408T232602Z
LAST-MODIFIED:20250408T232827Z
UID:8800-1759874400-1759960799@keepsthefire.org
SUMMARY:Online Counseling Sessions Day
DESCRIPTION:Ancient Wisdom for Modern Lives\nOne of the greatest challenges Don David Wiley faced as a shaman in the Western world was bridging the profound wisdom of indigenous traditions with the realities of contemporary life. Shamanic healing is often misunderstood—its depth\, its simplicity\, and its transformative power. \nThrough decades of apprenticeship and practice\, Don David has mastered the art of healing\, weaving together the teachings of his mentors with living indigenous traditions. His work has touched lives across the globe\, offering clarity\, restoration\, and deep spiritual connection. \nYet one key insight has shaped how he serves Western seekers: We love to talk. We worry that if we don’t explain ourselves perfectly\, we won’t be understood. That’s why—whether you’ve had an in-person healing session or are simply called to explore shamanic wisdom—Don David now offers online consultations via Zoom. \nThese sessions provide guidance\, follow-up support\, or a deeper look into the spiritual forces at work or dormant in your life. No matter where you are in the world—or where Don David’s journey takes him—you can connect from the comfort of your home or office. \nAll you need is: \n✔ A computer or smartphone\n✔ A stable internet connection\n✔ A quiet\, private space\n✔ An appointment \nStep beyond the limits of distance and let ancient wisdom meet you exactly where you are. \n“True transformation doesn’t require proximity—only presence\, intention\, and an open heart.” —Don David Wiley \nBook your appointment.\nContact Consultorio
URL:https://keepsthefire.org/event/online-counseling-sessions-day/
LOCATION:Council House – Carrollton\, Georgia\, 142 Hamp Chappell Rd\, Carrollton\, GA\, 30116\, United States
CATEGORIES:Healing Work,Online Counseling
ATTACH;FMTTYPE=image/png:https://keepsthefire.org/wp-content/uploads/2025/04/online-counseling-header-4-5.png
ORGANIZER;CN="Don David Wiley's Consultorio":MAILTO:consultorio@keepsthefire.org
END:VEVENT
END:VCALENDAR