BEGIN:VCALENDAR
VERSION:2.0
PRODID:-//Keeps the Fire - ECPv6.15.20//NONSGML v1.0//EN
CALSCALE:GREGORIAN
METHOD:PUBLISH
X-ORIGINAL-URL:https://keepsthefire.org
X-WR-CALDESC:Events for Keeps the Fire
REFRESH-INTERVAL;VALUE=DURATION:PT1H
X-Robots-Tag:noindex
X-PUBLISHED-TTL:PT1H
BEGIN:VTIMEZONE
TZID:America/Mexico_City
BEGIN:STANDARD
TZOFFSETFROM:-0600
TZOFFSETTO:-0600
TZNAME:CST
DTSTART:20240101T000000
END:STANDARD
END:VTIMEZONE
BEGIN:VEVENT
DTSTART;TZID=America/Mexico_City:20250913T080000
DTEND;TZID=America/Mexico_City:20250922T230000
DTSTAMP:20260420T111753
CREATED:20250408T233603Z
LAST-MODIFIED:20250408T233603Z
UID:9040-1757750400-1758582000@keepsthefire.org
SUMMARY:HOMELANDS Trip
DESCRIPTION:
URL:https://keepsthefire.org/event/homelands-trip/
LOCATION:Sixth Tuki – Tateikie\, Domicilio Conocido\, San Andrés Cohamiata\, Jalisco\, 46074\, Mexico
END:VEVENT
BEGIN:VEVENT
DTSTART;VALUE=DATE:20250924
DTEND;VALUE=DATE:20250925
DTSTAMP:20260420T111753
CREATED:20250402T045618Z
LAST-MODIFIED:20250402T211149Z
UID:8400-1758672000-1758758399@keepsthefire.org
SUMMARY:Online Counseling Sessions Day
DESCRIPTION:Ancient Wisdom for Modern Lives\nOne of the greatest challenges Don David Wiley faced as a shaman in the Western world was bridging the profound wisdom of indigenous traditions with the realities of contemporary life. Shamanic healing is often misunderstood—its depth\, its simplicity\, and its transformative power. \nThrough decades of apprenticeship and practice\, Don David has mastered the art of healing\, weaving together the teachings of his mentors with living indigenous traditions. His work has touched lives across the globe\, offering clarity\, restoration\, and deep spiritual connection. \nYet one key insight has shaped how he serves Western seekers: We love to talk. We worry that if we don’t explain ourselves perfectly\, we won’t be understood. That’s why—whether you’ve had an in-person healing session or are simply called to explore shamanic wisdom—Don David now offers online consultations via Zoom. \nThese sessions provide guidance\, follow-up support\, or a deeper look into the spiritual forces at work or dormant in your life. No matter where you are in the world—or where Don David’s journey takes him—you can connect from the comfort of your home or office. \nAll you need is: \n✔ A computer or smartphone\n✔ A stable internet connection\n✔ A quiet\, private space\n✔ An appointment \nStep beyond the limits of distance and let ancient wisdom meet you exactly where you are. \n“True transformation doesn’t require proximity—only presence\, intention\, and an open heart.” —Don David Wiley \nBook your appointment.\nContact Consultorio
URL:https://keepsthefire.org/event/oc-sep-24-2025/
LOCATION:https://keepsthefire.org/event/oc-sep-24-2025/
CATEGORIES:Healing Work,Online Counseling
ATTACH;FMTTYPE=image/png:https://keepsthefire.org/wp-content/uploads/2025/04/online-counseling-header-4-5.png
ORGANIZER;CN="Don David Wiley's Consultorio":MAILTO:consultorio@keepsthefire.org
END:VEVENT
BEGIN:VEVENT
DTSTART;TZID=America/Mexico_City:20250927T190000
DTEND;TZID=America/Mexico_City:20250928T020000
DTSTAMP:20260420T111753
CREATED:20250402T234309Z
LAST-MODIFIED:20250402T234309Z
UID:8604-1758999600-1759024800@keepsthefire.org
SUMMARY:Audience with Grandfather Fire: Harvest Tsantawu Festival
DESCRIPTION:This is a closed specialized audience hosted by the Tsantawu Coincil.\nAudience with Grandfather Fire: \nA Sacred Opening\nAs part of the Fall Harvest Tsantawu Festival\, the Audience with Grandfather Fire takes place at the end of the first full workday. This private gathering offers the Ritual Team direct guidance from Divine\, ensuring that their service aligns with the deeper intentions of the season. \nUnlike the Spring Audience\, which is held at the end of their time together\, this Fall gathering provides essential insight before stepping into sacred work. Grandfather Fire\, speaking through Don David Wiley\, offers wisdom that illuminates the path forward\, helping the team attune to the needs of the land\, the elements\, and the spiritual forces at play. \nDuring this time\, Don David surrenders fully\, as Grandfather Fire takes over his body\, sending him “to the workshop.” He remains unaware of what transpires until the following day when the Ritual Pilot shares Grandfather’s guidance\, ensuring that the message remains pure and unfiltered. \nAfter the Audience\, the Ritual Team dedicates a full day to absorbing\, reflecting on\, and discussing Grandfather’s words. This time of integration is vital\, allowing each member to embody the wisdom received before stepping into their roles. With hearts aligned and purpose clarified\, they enter the ceremony fully prepared to fulfill their part in the sacred cycle of reciprocity between humanity\, nature\, and the unseen forces that sustain life.
URL:https://keepsthefire.org/event/fall-gff-tsantawu/
LOCATION:Stone Mountain\, 1000 Robert E Lee Blvd\, Stone Mountain\, GA\, 30083\, United States
CATEGORIES:Closed Audience,Grandfather Fire,Sacred Sites,Traditions
ATTACH;FMTTYPE=image/jpeg:https://keepsthefire.org/wp-content/uploads/2025/04/gff-e1743732040321.jpg
ORGANIZER;CN="Tsantawu Council":MAILTO:CONTACT US We look forward to hearing from you! info@sacredstonemountain.org
END:VEVENT
BEGIN:VEVENT
DTSTART;VALUE=DATE:20250928
DTEND;VALUE=DATE:20250930
DTSTAMP:20260420T111753
CREATED:20250403T035725Z
LAST-MODIFIED:20250407T225453Z
UID:8691-1759096800-1759183199@keepsthefire.org
SUMMARY:GFF Recovery Day
DESCRIPTION:Don David is not available on this day.\nDon David Wiley as a Conduit of the God of Fire\nDon David Wiley serves as a powerful conduit of the God of Fire. During his intense work\, when Tatewarí takes control of his being\, he is swept into a transcendent state—his body’s temperature soars\, and he enters a trance-like condition reminiscent of a deep\, ceremonial sleep. Meanwhile\, Grandfather Fire spends the night offering his wisdom—constantly ingesting sacred hot cocoa and smoking sacred tabaco. In this state\, although Don David remains unharmed\, his physical body endures a heavy strain. \nWhen the night finishes and attendees leave\, his dedicated Recovery Team\, comprised of handpicked ritual support individuals\, plays a vital role. As the divine presence recedes and Grandfather departs from the physical realm\, this committed group guides Don David back into his body. The morning after the Grandfather Fires\, Don David awakens feeling discombobulated and spaced\, requiring time to reconnect with his extremities and regain a sense of physical presence. A strong hands-on therapeutic session and a day of focused recovery are key to shaking off the residual ethereal numbness\, allowing him to reestablish strength\, clarity\, and focus. \nThough Don David often jokes about the challenges of navigating our physical form—humor that echoes Grandfather Fire’s own playful jibes at human bodies when using Don David’s body as a vessel to speak to us during an audience—the recovery process remains an essential part of his work. It ensures that the extraordinary service he offers—allowing others to listen to the wisdom shared by the God of Fire—stays balanced and true\, ultimately enhancing the profound healing he brings to those he serves.
URL:https://keepsthefire.org/event/gff-recovery-day-sep-29-2025/
LOCATION:Council House – Carrollton\, Georgia\, 142 Hamp Chappell Rd\, Carrollton\, GA\, 30116\, United States
CATEGORIES:Grandfather Fire,Recovery Day
ATTACH;FMTTYPE=image/jpeg:https://keepsthefire.org/wp-content/uploads/2025/04/recovery-e1743731975402.jpg
ORGANIZER;CN="Tsantawu Council":MAILTO:CONTACT US We look forward to hearing from you! info@sacredstonemountain.org
END:VEVENT
END:VCALENDAR