BEGIN:VCALENDAR
VERSION:2.0
PRODID:-//Keeps the Fire - ECPv6.15.20//NONSGML v1.0//EN
CALSCALE:GREGORIAN
METHOD:PUBLISH
X-ORIGINAL-URL:https://keepsthefire.org
X-WR-CALDESC:Events for Keeps the Fire
REFRESH-INTERVAL;VALUE=DURATION:PT1H
X-Robots-Tag:noindex
X-PUBLISHED-TTL:PT1H
BEGIN:VTIMEZONE
TZID:America/Mexico_City
BEGIN:STANDARD
TZOFFSETFROM:-0600
TZOFFSETTO:-0600
TZNAME:CST
DTSTART:20240101T000000
END:STANDARD
END:VTIMEZONE
BEGIN:VEVENT
DTSTART;VALUE=DATE:20250817
DTEND;VALUE=DATE:20250819
DTSTAMP:20260420T111748
CREATED:20250403T035512Z
LAST-MODIFIED:20250407T225527Z
UID:8687-1755392400-1755478799@keepsthefire.org
SUMMARY:GFF Recovery Day
DESCRIPTION:Don David is not available on this day.\nDon David Wiley as a Conduit of the God of Fire\nDon David Wiley serves as a powerful conduit of the God of Fire. During his intense work\, when Tatewarí takes control of his being\, he is swept into a transcendent state—his body’s temperature soars\, and he enters a trance-like condition reminiscent of a deep\, ceremonial sleep. Meanwhile\, Grandfather Fire spends the night offering his wisdom—constantly ingesting sacred hot cocoa and smoking sacred tabaco. In this state\, although Don David remains unharmed\, his physical body endures a heavy strain. \nWhen the night finishes and attendees leave\, his dedicated Recovery Team\, comprised of handpicked ritual support individuals\, plays a vital role. As the divine presence recedes and Grandfather departs from the physical realm\, this committed group guides Don David back into his body. The morning after the Grandfather Fires\, Don David awakens feeling discombobulated and spaced\, requiring time to reconnect with his extremities and regain a sense of physical presence. A strong hands-on therapeutic session and a day of focused recovery are key to shaking off the residual ethereal numbness\, allowing him to reestablish strength\, clarity\, and focus. \nThough Don David often jokes about the challenges of navigating our physical form—humor that echoes Grandfather Fire’s own playful jibes at human bodies when using Don David’s body as a vessel to speak to us during an audience—the recovery process remains an essential part of his work. It ensures that the extraordinary service he offers—allowing others to listen to the wisdom shared by the God of Fire—stays balanced and true\, ultimately enhancing the profound healing he brings to those he serves.
URL:https://keepsthefire.org/event/gff-recovery-day-aug-17-2025/
LOCATION:Olympia Hearth\, 3010 12th Ave. NE\, Olympia\, WA\, 98506\, United States
CATEGORIES:Grandfather Fire,Recovery Day
ATTACH;FMTTYPE=image/jpeg:https://keepsthefire.org/wp-content/uploads/2025/04/recovery-e1743731975402.jpg
END:VEVENT
BEGIN:VEVENT
DTSTART;TZID=America/Mexico_City:20250818T100000
DTEND;TZID=America/Mexico_City:20250818T190000
DTSTAMP:20260420T111748
CREATED:20250404T001645Z
LAST-MODIFIED:20250404T001645Z
UID:8841-1755511200-1755543600@keepsthefire.org
SUMMARY:In-Person Healing Day in Olympia\, Washington. USA
DESCRIPTION:An In-Person Healing Day with Don David Wiley offers a profound opportunity for individuals to engage in deep\, transformative healing rooted in ancient indigenous traditions. As an initiated healer in both the Nahua and Wixárika (Huichol) traditions of Mexico\, Don David brings a wealth of ancestral wisdom to address the complexities of modern life. During these sessions\, participants receive personalized attention tailored to their unique healing needs. \nDon David employs traditional shamanic practices to help individuals confront and release long-standing issues\, facilitating a reconnection with their inner selves and the natural world. This process often leads to significant shifts across physical\, emotional\, mental\, and spiritual domains. \nThe healing environment is further enriched by the presence of sacred elements such as Fire and the natural surroundings\, which are integral to the Wixárika healing tradition. These elements serve to support and amplify the healing process\, fostering a sense of balance and harmony. Participants often report profound transformations\, including a renewed sense of purpose\, alleviation of emotional burdens\, and enhanced spiritual awareness. \nEngaging in a Healing Day with Don David Wiley provides not just temporary relief but also equips individuals with insights and practices for sustained well-being. \nContact Consultorio to schedule an appointment.  
URL:https://keepsthefire.org/event/px-day-aug-18-2025/
LOCATION:Olympia Hearth\, 3010 12th Ave. NE\, Olympia\, WA\, 98506\, United States
CATEGORIES:Healing Work,In-Person Healing Sessions,Wixárika Shamanic Healing,Wixárika Tradition
ATTACH;FMTTYPE=image/jpeg:https://keepsthefire.org/wp-content/uploads/2025/04/olympia.jpg
ORGANIZER;CN="Don David Wiley's Consultorio":MAILTO:consultorio@keepsthefire.org
END:VEVENT
BEGIN:VEVENT
DTSTART;VALUE=DATE:20250823
DTEND;VALUE=DATE:20250824
DTSTAMP:20260420T111748
CREATED:20250402T030143Z
LAST-MODIFIED:20250402T045056Z
UID:8350-1755907200-1755993599@keepsthefire.org
SUMMARY:Fire Speaks — New Hampshire\, NH. USA
DESCRIPTION:This is a public\, open event offered by Sacred Fire.\nFire knows no pretense. It warms. It transforms. It connects.\nJoin us to hear what the fire has to say.\nFire Speaks is a ceremonial gathering where participants seek guidance from Grandfather Fire—known as Tatewarí among Mexico’s Indigenous Huichol people—to receive ancient wisdom and spiritual insights around the transformative presence of a sacred fire. \nGrandfather Fire in this form has offered guidance\, teachings\, and sacred stories to people worldwide for over two decades\, helping individuals navigate life’s challenges with clarity\, compassion\, and courage. Through sacred storytelling and spiritual insight\, this gathering provides a transformative experience that cuts through personal illusion and reveals new possibilities and deeper wisdom that can be practically applied in one’s life. \nParticipants consistently describe the experience as profound\, enlightening\, and heart-opening. For those feeling stuck or seeking meaningful change\, this gathering offers a unique opportunity for spiritual growth\, healing\, and personal transformation. \nGrandfather Fire’s teachings emerge as a beacon of timeless wisdom—cutting through doubt and confusion\, inviting participants to see beyond their current limitations and embrace a more expansive view. His penetrating perspective transcends momentary challenges\, offering a profound path to deeper understanding of ourselves and the world we live in. \nGrandfather Fire has been a friend and teacher to humans for 800\,000 years. You are invited to come sit around a sacred fire and receive Grandfather Fire’s wisdom and counsel as He answers our questions. \nYou may experience: \n\nConnection and community\nClarity and direction\nIncreased compassion\nCutting through personal illusions to see a broader worldview\nHeart-opening\nPathways to personal transformation\nNew possibilities for navigating life’s challenges\nFind out more information about this phenomenon by reading this article.\n\nWhat people are saying after attending Fire Speaks: \n“For days after\, I kept having these intense visualizations of fire\, and I was able to really “feel” the spirit of fire\, as something beyond simple burning wood and instead a primeval creative essence. The whole experience seemed to have set a seed deep in my psyche.”~Luke \n“Grandfather fire has called me to live more in my heart\, to be open to so many possibilities\, and most importantly\, to always think how I can serve others. This ancient practice is both simple and profound.”~Warren \n  \nThis is a Sacred Fire Fire Speaks event.\nHosted by Chris Griffin.
URL:https://keepsthefire.org/event/fs-new-hampshire/
LOCATION:New Hampshire Hearth\, NH\, United States
CATEGORIES:Fire Speaks,Sacred Fire,Traditions
ATTACH;FMTTYPE=image/png:https://keepsthefire.org/wp-content/uploads/2025/04/mtn-monandnock.png
END:VEVENT
BEGIN:VEVENT
DTSTART;VALUE=DATE:20250823
DTEND;VALUE=DATE:20250825
DTSTAMP:20260420T111748
CREATED:20250403T035606Z
LAST-MODIFIED:20250407T225510Z
UID:8689-1755986400-1756072799@keepsthefire.org
SUMMARY:GFF Recovery Day
DESCRIPTION:Don David is not available on this day.\nDon David Wiley as a Conduit of the God of Fire\nDon David Wiley serves as a powerful conduit of the God of Fire. During his intense work\, when Tatewarí takes control of his being\, he is swept into a transcendent state—his body’s temperature soars\, and he enters a trance-like condition reminiscent of a deep\, ceremonial sleep. Meanwhile\, Grandfather Fire spends the night offering his wisdom—constantly ingesting sacred hot cocoa and smoking sacred tabaco. In this state\, although Don David remains unharmed\, his physical body endures a heavy strain. \nWhen the night finishes and attendees leave\, his dedicated Recovery Team\, comprised of handpicked ritual support individuals\, plays a vital role. As the divine presence recedes and Grandfather departs from the physical realm\, this committed group guides Don David back into his body. The morning after the Grandfather Fires\, Don David awakens feeling discombobulated and spaced\, requiring time to reconnect with his extremities and regain a sense of physical presence. A strong hands-on therapeutic session and a day of focused recovery are key to shaking off the residual ethereal numbness\, allowing him to reestablish strength\, clarity\, and focus. \nThough Don David often jokes about the challenges of navigating our physical form—humor that echoes Grandfather Fire’s own playful jibes at human bodies when using Don David’s body as a vessel to speak to us during an audience—the recovery process remains an essential part of his work. It ensures that the extraordinary service he offers—allowing others to listen to the wisdom shared by the God of Fire—stays balanced and true\, ultimately enhancing the profound healing he brings to those he serves.
URL:https://keepsthefire.org/event/gff-recovery-day-aug-24-2025/
LOCATION:New Hampshire Hearth\, NH\, United States
CATEGORIES:Grandfather Fire,Recovery Day
ATTACH;FMTTYPE=image/jpeg:https://keepsthefire.org/wp-content/uploads/2025/04/recovery-e1743731975402.jpg
END:VEVENT
END:VCALENDAR