BEGIN:VCALENDAR
VERSION:2.0
PRODID:-//Keeps the Fire - ECPv6.15.20//NONSGML v1.0//EN
CALSCALE:GREGORIAN
METHOD:PUBLISH
X-WR-CALNAME:Keeps the Fire
X-ORIGINAL-URL:https://keepsthefire.org
X-WR-CALDESC:Events for Keeps the Fire
REFRESH-INTERVAL;VALUE=DURATION:PT1H
X-Robots-Tag:noindex
X-PUBLISHED-TTL:PT1H
BEGIN:VTIMEZONE
TZID:America/Mexico_City
BEGIN:STANDARD
TZOFFSETFROM:-0600
TZOFFSETTO:-0600
TZNAME:CST
DTSTART:20240101T000000
END:STANDARD
END:VTIMEZONE
BEGIN:VEVENT
DTSTART;VALUE=DATE:20250518
DTEND;VALUE=DATE:20250520
DTSTAMP:20260420T153803
CREATED:20250410T194902Z
LAST-MODIFIED:20250410T194902Z
UID:9047-1747605600-1747691999@keepsthefire.org
SUMMARY:Kawiterutsirri In- Person Meeting
DESCRIPTION:This is a closed\, specialized event\, hosted by Grupo Tatewari Council of Elders\, known as the Kawiterutsirri.\nThe Kawiterutsirri are the esteemed council of elders of Grupo Tatewari\, a collective of devoted Westerners walking the sacred path of traditional medicine within the timeless Wixárika lineage. In every Wixárika community\, Kawiterutsirri is the name given to the Council of Elders—those who embody wisdom\, experience\, and spiritual authority. In Grupo Tatewari\, this name has been given in recognition of the responsibility and sacred trust these elders carry as they guide the path forward. \nEach member of the Kawiterutsirri has undergone years of disciplined training\, pilgrimages\, and initiations under the direct instruction of Grandfather Fire\, the first and original shaman. It is Grandfather who called them to this path\, led them to the ancestral lands of the Sierra Madre Mountains in Mexico\, and who continues to guide their steps\, decisions\, and prayers. \nAs initiated mara’akate—traditional healers\, counselors\, and ritual leaders—they are recognized by the Wixárika Kawiterutsirri in the Sierra and have been entrusted with the sacred duty of helping modern people find healing\, purpose\, and reconnection through this living tradition. \nThe Kawiterutsirri serve not just as spiritual leaders but as guardians of sacred values—honor\, respect\, responsibility\, and right relationship. Everything they do arises from these principles\, rooted in a commitment to walk with humility\, integrity\, and deep listening to the land\, the ancestors\, the spirits\, and to each other. \nThough they live in different regions across North and Central America\, the Kawiterutsirri remain closely connected\, gathering regularly via Zoom and meeting in person before or after pilgrimages\, ceremonies\, or trainings. These councils allow them to align their work and discern Grandfather Fire’s will for the ongoing unfolding of this sacred path. \nAs bridges between worlds—ancient and contemporary\, seen and unseen—the Kawiterutsirri of Grupo Tatewari carry the fire forward\, so it may continue to illuminate lives\, heal hearts\, and inspire new generations to walk in beauty\, balance\, and reverence.
URL:https://keepsthefire.org/event/kawi-may-19-2025/
LOCATION:East Coast Hearth\, 66 Rocky Hollow\, Weaverville\, NC\, 28787\, United States
CATEGORIES:Council of Elders,Kawiterutsirri,Traditions,Wixárika Tradition
ATTACH;FMTTYPE=image/png:https://keepsthefire.org/wp-content/uploads/2025/04/mk.png
END:VEVENT
BEGIN:VEVENT
DTSTART;VALUE=DATE:20250519
DTEND;VALUE=DATE:20250524
DTSTAMP:20260420T153803
CREATED:20250410T202636Z
LAST-MODIFIED:20250410T210007Z
UID:9049-1747692000-1748037599@keepsthefire.org
SUMMARY:Mara'akate Training
DESCRIPTION:This is a closed\, specialized program and is not open to the public.\nThis program is hosted by Grupo Tatewarí.\nWixárika Mara’akate Training Gathering\nThis is a sacred gathering for those who have received and confirmed a spiritual calling to walk the path of the Mara’akame—the traditional shamanic healer of the Wixárika (Huichol) people of Mexico. Participation is not open to the public and requires strict spiritual commitment\, preparation\, and ongoing training. \nTo become a Mara’akame\, one must go through years of apprenticeship\, pilgrimages to sacred sites\, and eventually receive direct initiation by Grandfather Fire Himself. This path is not chosen lightly—it is received\, confirmed\, and answered with humility\, endurance\, and devotion. \nDon David Wiley\, as the traditional conduit for the God of Fire\, was entrusted with a profound responsibility: to make this ancestral path accessible to those in the Western world who are genuinely called. Through decades of pilgrimage\, apprenticeship\, and instruction from revered Wixárika elders such as Don Lupe Ríos Gonzáles and Don Efrén González\, Don David has been guided to support those called to this path\, in service to a world that has lost its connection to the Sacred. \nSeveral times each year\, initiated and apprentice mara’akate from Grupo Tatewarí gather with Don David around the Fire for continued training\, spiritual renewal\, and communal counsel. These gatherings are an essential part of the formation and deepening of each mara’akame’s path. \nThe role of a Mara’akame carries immense responsibility: \n\nTo offer traditional healing and guidance\nTo lead ceremonies and rituals for transformation and reconnection\nTo help others alleviate suffering and restore balance in their lives\nTo protect and carry ancient spiritual knowledge\nTo divine\, lead\, and serve their communities with integrity\n\n \nThis is not a program for the curious or casually interested. It is a path of spiritual service that demands courage\, sacrifice\, and a deep relationship with Divine. \nIf you believe you are being called\, the first step is to seek confirmation through the proper channels. Only then can the journey begin. \nThis path is alive. It reshapes those who walk it. And it is only for those who are truly called.
URL:https://keepsthefire.org/event/maraakate-training/
LOCATION:East Coast Hearth\, 66 Rocky Hollow\, Weaverville\, NC\, 28787\, United States
CATEGORIES:Sacred Sites,Specialized Pilgrimage,Traditions,Wixárika Shamanic Healing,Wixárika Tradition,Wixárika Training
ATTACH;FMTTYPE=image/jpeg:https://keepsthefire.org/wp-content/uploads/2025/04/2022-inside-tuki.jpg
END:VEVENT
BEGIN:VEVENT
DTSTART;VALUE=DATE:20250524
DTEND;VALUE=DATE:20250525
DTSTAMP:20260420T153803
CREATED:20250327T225650Z
LAST-MODIFIED:20250403T034518Z
UID:8249-1748044800-1748131199@keepsthefire.org
SUMMARY:Fire Speaks — Asheville\, NC. USA
DESCRIPTION:This is a public\, open event offered by Sacred Fire.\nFire knows no pretense. It warms. It transforms. It connects.\nJoin us to hear what the fire has to say.\nFire Speaks is a ceremonial gathering where participants seek guidance from Grandfather Fire—known as Tatewari among Mexico’s Indigenous Huichol people—to receive ancient wisdom and spiritual insights around the transformative presence of a sacred fire. \nGrandfather Fire in this form has offered guidance\, teachings\, and sacred stories to people worldwide for over two decades\, helping individuals navigate life’s challenges with clarity\, compassion\, and courage. Through sacred storytelling and spiritual insight\, this gathering provides a transformative experience that cuts through personal illusion and reveals new possibilities and deeper wisdom that can be practically applied in one’s life. \nParticipants consistently describe the experience as profound\, enlightening\, and heart-opening. For those feeling stuck or seeking meaningful change\, this gathering offers a unique opportunity for spiritual growth\, healing\, and personal transformation. \nGrandfather Fire’s teachings emerge as a beacon of timeless wisdom—cutting through doubt and confusion\, inviting participants to see beyond their current limitations and embrace a more expansive view. His penetrating perspective transcends momentary challenges\, offering a profound path to deeper understanding of ourselves and the world we live in. \nGrandfather Fire has been a friend and teacher to humans for 800\,000 years. You are invited to come sit around a sacred fire and receive Grandfather Fire’s wisdom and counsel as He answers our questions. \nYou may experience: \n\nConnection and community\nClarity and direction\nIncreased compassion\nCutting through personal illusions to see a broader worldview\nHeart-opening\nPathways to personal transformation\nNew possibilities for navigating life’s challenges\nFind out more information about this phenomenon by reading this article.\n\nWhat people are saying after attending Fire Speaks: \n“For days after\, I kept having these intense visualizations of fire\, and I was able to really “feel” the spirit of fire\, as something beyond simple burning wood and instead a primeval creative essence. The whole experience seemed to have set a seed deep in my psyche.”~Luke \n“Grandfather fire has called me to live more in my heart\, to be open to so many possibilities\, and most importantly\, to always think how I can serve others. This ancient practice is both simple and profound.”~Warren \n  \nThis is a Sacred Fire Fire Speaks event.\nHosted at the Asheville Hearth by Lisa Lichtig & Patrick Hanaway.
URL:https://keepsthefire.org/event/fire-speaks-asheville/
LOCATION:East Coast Hearth\, 66 Rocky Hollow\, Weaverville\, NC\, 28787\, United States
CATEGORIES:Fire Speaks,Sacred Fire,Traditions
ATTACH;FMTTYPE=image/png:https://keepsthefire.org/wp-content/uploads/2025/03/asheville-fs-banner-1-e1673821676207.png
END:VEVENT
BEGIN:VEVENT
DTSTART;VALUE=DATE:20250524
DTEND;VALUE=DATE:20250526
DTSTAMP:20260420T153803
CREATED:20250403T034657Z
LAST-MODIFIED:20250407T225719Z
UID:8637-1748124000-1748210399@keepsthefire.org
SUMMARY:GFF Recovery Day
DESCRIPTION:Don David is not available on this day.\nDon David Wiley as a Conduit of the God of Fire\nDon David Wiley serves as a powerful conduit of the God of Fire. During his intense work\, when Tatewarí takes control of his being\, he is swept into a transcendent state—his body’s temperature soars\, and he enters a trance-like condition reminiscent of a deep\, ceremonial sleep. Meanwhile\, Grandfather Fire spends the night offering his wisdom—constantly ingesting sacred hot cocoa and smoking sacred tabaco. In this state\, although Don David remains unharmed\, his physical body endures a heavy strain. \nWhen the night finishes and attendees leave\, his dedicated Recovery Team\, comprised of handpicked ritual support individuals\, plays a vital role. As the divine presence recedes and Grandfather departs from the physical realm\, this committed group guides Don David back into his body. The morning after the Grandfather Fires\, Don David awakens feeling discombobulated and spaced\, requiring time to reconnect with his extremities and regain a sense of physical presence. A strong hands-on therapeutic session and a day of focused recovery are key to shaking off the residual ethereal numbness\, allowing him to reestablish strength\, clarity\, and focus. \nThough Don David often jokes about the challenges of navigating our physical form—humor that echoes Grandfather Fire’s own playful jibes at human bodies when using Don David’s body as a vessel to speak to us during an audience—the recovery process remains an essential part of his work. It ensures that the extraordinary service he offers—allowing others to listen to the wisdom shared by the God of Fire—stays balanced and true\, ultimately enhancing the profound healing he brings to those he serves.
URL:https://keepsthefire.org/event/gff-recovery-day-may-25-2025/
LOCATION:East Coast Hearth\, 66 Rocky Hollow\, Weaverville\, NC\, 28787\, United States
CATEGORIES:Grandfather Fire,Recovery Day
ATTACH;FMTTYPE=image/jpeg:https://keepsthefire.org/wp-content/uploads/2025/04/recovery-e1743731975402.jpg
END:VEVENT
END:VCALENDAR