BEGIN:VCALENDAR
VERSION:2.0
PRODID:-//Keeps the Fire - ECPv6.15.20//NONSGML v1.0//EN
CALSCALE:GREGORIAN
METHOD:PUBLISH
X-WR-CALNAME:Keeps the Fire
X-ORIGINAL-URL:https://keepsthefire.org
X-WR-CALDESC:Events for Keeps the Fire
REFRESH-INTERVAL;VALUE=DURATION:PT1H
X-Robots-Tag:noindex
X-PUBLISHED-TTL:PT1H
BEGIN:VTIMEZONE
TZID:America/Mexico_City
BEGIN:STANDARD
TZOFFSETFROM:-0600
TZOFFSETTO:-0600
TZNAME:CST
DTSTART:20240101T000000
END:STANDARD
END:VTIMEZONE
BEGIN:VEVENT
DTSTART;TZID=America/Mexico_City:20250428T090000
DTEND;TZID=America/Mexico_City:20250428T180000
DTSTAMP:20260420T203431
CREATED:20250403T032349Z
LAST-MODIFIED:20250403T032349Z
UID:8663-1745830800-1745863200@keepsthefire.org
SUMMARY:In-Person Nahua Healing Day in Tepoztlán\, Morelos. México
DESCRIPTION:An In-Person Nahua Healing Day with Don David Wiley offers a profound opportunity for individuals to engage in deep\, transformative healing rooted in ancient indigenous traditions. As an initiated healer in both the Nahua and Wixárika (Huichol) traditions of Mexico\, Don David brings a wealth of ancestral wisdom to address the complexities of modern life. \nDuring these sessions\, participants receive personalized attention tailored to their unique healing needs. Don David employs traditional shamanic practices to help individuals confront and release long-standing issues\, facilitating a reconnection with their inner selves and the natural world. This process often leads to significant shifts across physical\, emotional\, mental\, and spiritual domains. \nThe healing environment is further enriched by the presence of sacred elements such as Fire and the natural surroundings\, which are integral to the Wixárika healing tradition. These elements serve to support and amplify the healing process\, fostering a sense of balance and harmony. \nParticipants often report profound transformations\, including a renewed sense of purpose\, alleviation of emotional burdens\, and enhanced spiritual awareness. Engaging in a Healing Day with Don David Wiley provides not just temporary relief but also equips individuals with insights and practices for sustained well-being. \nContact Consultorio to schedule an appointment. \n 
URL:https://keepsthefire.org/event/px-day-tepoz-apr-2025/
LOCATION:Casa Xiuhtecuhtli\, La Presa 200\, Tepoztlan\, Morelos\, 62520\, Mexico
CATEGORIES:Healing Work,In-Person Healing Sessions,Nahua Shamanic Healing,Nahua Tradition,Traditions,Wixárika Shamanic Healing,Wixárika Tradition
ATTACH;FMTTYPE=image/jpeg:https://keepsthefire.org/wp-content/uploads/2025/04/tepahtiani-healing-day.jpg
ORGANIZER;CN="Don David Wiley's Consultorio":MAILTO:consultorio@keepsthefire.org
END:VEVENT
BEGIN:VEVENT
DTSTART;TZID=America/Mexico_City:20250429T180000
DTEND;TZID=America/Mexico_City:20250507T080000
DTSTAMP:20260420T203431
CREATED:20250403T022038Z
LAST-MODIFIED:20250403T212148Z
UID:8644-1745949600-1746604800@keepsthefire.org
SUMMARY:Spring Weather Work Ceremonies
DESCRIPTION:This series of events is hosted by the Weather Workers.\nThese are closed\, specialized events\, with open ceremonies.\nAn Ancient Tradition of Gratitude & Abundance\nDating back to pre-Columbian times\, countless generations of Graniceros have recognized the dynamic presence of the Gods and spirits as Weather Beings\, who actively interact with human lives. In ancient times\, and continuing to this day\, people have witnessed how the Weather Beings govern the rain\, winds\, and seasons\, guiding the cycles of planting and harvest—fundamental to sustaining all people\, communities\, and cultures. \nTraditionally\, God-chosen men\, women\, and their families serve their communities as initiated ambassadors to the Weather Beings\, following lineages dedicated to service. Biannual cyclical ceremonies are maintained year after year to honor the relationship between the Gods and humans through offerings of gratitude. These offerings are placed at sacred locations and temples with prayers\, songs of joy\, fiestas\, and music\, recognizing and celebrating the beneficial presence of the Weather Beings in our lives. The gifts of the Weather Beings manifest in the rich offerings of food\, beverages\, fruits\, vegetables\, flowers\, and candles—a true cornucopia of abundance. \nEach spring\, ceremonies are held in fulfillment of the prophecy of the renowned Granicero and healer (Tepahtiani)\, Don Lucio Campos Elizalde. His prophecy foretold a time when dedicated people from around the world would carry on his work\, ensuring the continuity of this ancient Nahua tradition. \nDon Lucio standing in front of the tree where he was struck by lightning\, which he dressed every spring and fall for weather work ceremonies. He chose not to return to the Granicero Ancestral Cave after the other lineage holders disagreed with his decision to teach Westerners\, even though Santa Bárbara had instructed him to do so. \n \nToday\, Don Lucio’s lineage remains strong\, and the endless generosity of the Weather Beings is honored and upheld. \nThis large and growing lineage of Weather Workers is now led by Caporal Mayor Don David Wiley. Their ceremonial home in Tepoztlán\, Morelos\, Mexico\, hosts multiple ceremonies each year at the Mayoría\, or Templo Mayor\, within Casa Xiuhtecuhtli. \n\nDavid Wiley in Nepopualco\, Morelos. Don Lució’s tree. \nDon David was crowned and trained in the Granicero tradition under the guidance of the renowned Nahua shaman Don Lucio Campos Elizalde in 1996. \nSince then\, he has devoted himself to preserving and strengthening this sacred work. Every spring\, the seasonal Granicero ceremonies are conducted by Don David Wiley and the international community of Tiemperos under his tutelage\, who travel to Tepoztlán\, Morelos\, Mexico\, each year to give thanks for good weather and the continuation of life it sustains.
URL:https://keepsthefire.org/event/spring-weather-work-ceremonies/
LOCATION:Casa Xiuhtecuhtli\, La Presa 200\, Tepoztlan\, Morelos\, 62520\, Mexico
CATEGORIES:Nahua Tradition,Traditions,Weather Work Audience with Grandfather Fire,Weather Work Ceremonies
ATTACH;FMTTYPE=image/jpeg:https://keepsthefire.org/wp-content/uploads/2025/04/s-ww-aurelio.jpg
ORGANIZER;CN="Weather Workers":MAILTO:workingforweather@keepsthefire.org
END:VEVENT
BEGIN:VEVENT
DTSTART;VALUE=DATE:20250502
DTEND;VALUE=DATE:20250503
DTSTAMP:20260420T203431
CREATED:20250403T043029Z
LAST-MODIFIED:20250407T224331Z
UID:8710-1746144000-1746230399@keepsthefire.org
SUMMARY:Offerings to la Virgen del Rayo
DESCRIPTION:Pilgrimage to Iztaccíhuatl: \nHonoring the Weather Beings\nLong before foreign feet ever touched these lands\, Iztaccíhuatl stood as a silent sentinel\, her snow-crowned peaks watching over the valleys below like a mother over her children. She was not merely a mountain\, but a living presence—an ancient protector whispered into being by Divine breath itself. \nThe original peoples who lived near her revered her spirit and recognized her connection to the sacred forces of life. She was—and remains—deeply entwined with Chalchiuhtlicue\, goddess of the waters that give and sustain life. In time\, her sacred image was syncretized with the Virgin of Lightning\, and even later with La Malinche\, yet the essence has never changed. She is the guardian of cycles\, of fertility\, of sky and storm—a threshold between earth and heavens. On her slopes\, high and remote\, rituals were once offered in prayerful silence and ecstatic song—gifts of flowers\, jade\, feathers\, and food placed with devotion to call forth rain and abundance\, and to honor the elemental spirits that walk beside us. \nToday\, this lineage continues. \nEach Spring and Fall\, Don David Wiley leads a group of graniceros—weather workers—up her sacred spine\, to a special site near the sky. This place was revealed decades ago by his beloved teacher\, Don Lucio Campos Elizalde\, a renowned Mexican shaman and guardian of ancestral knowledge. Don David met Don Lucio in Nepopualco\, Morelos\, in 1996\, a moment that marked the unfolding of a prophecy—Divine reaching toward the modern world through a path of fire and cloud. It was then that Don David was initiated as a granicero\, tiempero or quiapaquiz in Nahuatl\, and the transmission of sacred weather knowledge began—heart to heart\, breath to breath. \nSanta Bárbara\, patroness of storms and protector of those who walk between worlds\, once revealed while Don Lucio lay in a coma for three years that Nahua granicero souls would reincarnate in modern times and come from the four corners of the Earth. And they have. Year after year\, they return—no matter the distance\, no matter the thunder—to fulfill their mandas\, sacred vows etched not in ink\, but in soul. \nLa Virgen del Rayo \nIn 2004\, the group erected a modern statue of the Virgin of the Lightning to mark the site—not as a monument\, but as a living altar. They hoped that this contemporary expression would shield the sacred place from the unknowing tread of hikers who might not understand the weight of older\, pre-Hispanic imagery. And so\, each season\, they climb. They dress the Virgin in beautiful flowers and offerings\, they sing\, they pray\, they eat together under the watchful eyes of the weather beings. Then they return to the sacred valley of Tepoztlán\, carrying with them the mountain’s breath and blessings. \nThis is not a ceremony of the past. It is a living promise—an echo of Divine calling those who remember to step forward. Rain or lightning\, heat or hail\, they come. Not out of obligation\, but out of love\, service\, and the unwavering knowing that this is what it means to be in relationship with the forces that sustain life. \n \nAnd when they descend from Iztaccíhuatl’s heights\, each granicero carries back not only offerings fulfilled\, but gifts received—protection\, strength\, and the memory of standing face to face with the sacred. They bring these blessings to distant lands\, where they work quietly to help restore a lost balance\, to awaken hearts\, and to invite the world once again into right relationship with nature\, with the unseen\, and with the ever-present grace of Divine. \n\nIztaccíhuatl Volcano \n Invitation to Join the Ceremonies on Iztaccíhuatl\nIf something in your heart stirs as you read about this sacred pilgrimage—if you feel a quiet knowing\, a gentle pull from the mountain\, or a sense that you are meant to be in relationship with the forces that give and sustain life—you are warmly invited to step forward. \nEach journey to Iztaccíhuatl is part of a larger ceremonial cycle—a sacred act of love\, service\, and devotion. The walk up the volcano is just one of the many ritual responsibilities that must be fulfilled during the Fall and Spring ceremonies of Weather Work. It is not a trek\, nor a symbolic gesture\, but a living tradition—an offering made in prayer and gratitude to the weather beings\, the ancestors\, and Divine. \nSome people come simply to accompany the offerings at Iztaccíhuatl as respectful guests. Others may sense a deeper calling stirring within them—an ancestral echo\, a tug at the soul. If this is the case for you\, there is a path of inquiry to follow\, to discern whether you are being called to serve as a granicero—a Weather Worker—in the tradition guided by Don David Wiley. \nWhether you are drawn to witness\, support\, or explore a potential commitment\, you are welcome. \nTo attend or learn more\, please write to:\n📧 workingwithweather@keepsthefire.org \nYou will be contacted by the Chief of the Granicero Group\, who will guide you through what is needed to participate and coordinate any necessary logistics. \nThis path is not reserved for the few\, but open to those who are willing to listen\, to remember\, and to walk in right relationship with the sacred forces of nature. \nWe look forward to hearing from you. \n 
URL:https://keepsthefire.org/event/offerings-to-la-virgen-del-rayo/
LOCATION:Morelos
CATEGORIES:Nahua Tradition,Sacred Sites,Traditions,Weather Work Ceremonies
ATTACH;FMTTYPE=image/jpeg:https://keepsthefire.org/wp-content/uploads/2025/04/virgen-del-rayo-2014-close-up-e1744065192502.jpg
ORGANIZER;CN="Weather Workers":MAILTO:workingforweather@keepsthefire.org
END:VEVENT
BEGIN:VEVENT
DTSTART;TZID=America/Mexico_City:20250503T190000
DTEND;TZID=America/Mexico_City:20250504T020000
DTSTAMP:20260420T203431
CREATED:20250403T041739Z
LAST-MODIFIED:20250403T041936Z
UID:8708-1746298800-1746324000@keepsthefire.org
SUMMARY:Audience with Grandfather Fire: Spring Weather Work
DESCRIPTION:This is a open audience hosted by the Weather Workers.\nAudience with Grandfather Fire: \n\n 
URL:https://keepsthefire.org/event/gff-spring-ww-2025/
LOCATION:Casa Xiuhtecuhtli\, La Presa 200\, Tepoztlan\, Morelos\, 62520\, Mexico
CATEGORIES:Grandfather Fire,Nahua Tradition,Open Audience,Sacred Sites,Traditions,Weather Work Audience with Grandfather Fire,Weather Work Ceremonies
ATTACH;FMTTYPE=image/jpeg:https://keepsthefire.org/wp-content/uploads/2025/04/gff-e1743732040321.jpg
ORGANIZER;CN="Weather Workers":MAILTO:workingforweather@keepsthefire.org
END:VEVENT
BEGIN:VEVENT
DTSTART;VALUE=DATE:20250504
DTEND;VALUE=DATE:20250505
DTSTAMP:20260420T203431
CREATED:20250403T012444Z
LAST-MODIFIED:20250407T225737Z
UID:8640-1746316800-1746403199@keepsthefire.org
SUMMARY:GFF Recovery Day
DESCRIPTION:Don David is not available on this day.\nDon David Wiley as a Conduit of the God of Fire\nDon David Wiley serves as a powerful conduit of the God of Fire. During his intense work\, when Tatewarí takes control of his being\, he is swept into a transcendent state—his body’s temperature soars\, and he enters a trance-like condition reminiscent of a deep\, ceremonial sleep. Meanwhile\, Grandfather Fire spends the night offering his wisdom—constantly ingesting sacred hot cocoa and smoking sacred tabaco. In this state\, although Don David remains unharmed\, his physical body endures a heavy strain. \nWhen the night finishes and attendees leave\, his dedicated Recovery Team\, comprised of handpicked ritual support individuals\, plays a vital role. As the divine presence recedes and Grandfather departs from the physical realm\, this committed group guides Don David back into his body. The morning after the Grandfather Fires\, Don David awakens feeling discombobulated and spaced\, requiring time to reconnect with his extremities and regain a sense of physical presence. A strong hands-on therapeutic session and a day of focused recovery are key to shaking off the residual ethereal numbness\, allowing him to reestablish strength\, clarity\, and focus. \nThough Don David often jokes about the challenges of navigating our physical form—humor that echoes Grandfather Fire’s own playful jibes at human bodies when using Don David’s body as a vessel to speak to us during an audience—the recovery process remains an essential part of his work. It ensures that the extraordinary service he offers—allowing others to listen to the wisdom shared by the God of Fire—stays balanced and true\, ultimately enhancing the profound healing he brings to those he serves.
URL:https://keepsthefire.org/event/gff-recovery-day-may-4-2025/
LOCATION:Casa Xiuhtecuhtli\, La Presa 200\, Tepoztlan\, Morelos\, 62520\, Mexico
CATEGORIES:Grandfather Fire,Recovery Day
ATTACH;FMTTYPE=image/jpeg:https://keepsthefire.org/wp-content/uploads/2025/04/recovery-e1743731975402.jpg
ORGANIZER;CN="Weather Workers":MAILTO:workingforweather@keepsthefire.org
END:VEVENT
END:VCALENDAR