BEGIN:VCALENDAR
VERSION:2.0
PRODID:-//Keeps the Fire - ECPv6.15.20//NONSGML v1.0//EN
CALSCALE:GREGORIAN
METHOD:PUBLISH
X-WR-CALNAME:Keeps the Fire
X-ORIGINAL-URL:https://keepsthefire.org
X-WR-CALDESC:Events for Keeps the Fire
REFRESH-INTERVAL;VALUE=DURATION:PT1H
X-Robots-Tag:noindex
X-PUBLISHED-TTL:PT1H
BEGIN:VTIMEZONE
TZID:America/Mexico_City
BEGIN:STANDARD
TZOFFSETFROM:-0600
TZOFFSETTO:-0600
TZNAME:CST
DTSTART:20240101T000000
END:STANDARD
END:VTIMEZONE
BEGIN:VEVENT
DTSTART;VALUE=DATE:20250420
DTEND;VALUE=DATE:20250422
DTSTAMP:20260420T190028
CREATED:20250403T005144Z
LAST-MODIFIED:20250407T225757Z
UID:8628-1745110800-1745197199@keepsthefire.org
SUMMARY:GFF Recovery Day
DESCRIPTION:Don David is not available on this day.\nDon David Wiley as a Conduit of the God of Fire\nDon David Wiley serves as a powerful conduit of the God of Fire. During his intense work\, when Tatewarí takes control of his being\, he is swept into a transcendent state—his body’s temperature soars\, and he enters a trance-like condition reminiscent of a deep\, ceremonial sleep. Meanwhile\, Grandfather Fire spends the night offering his wisdom—constantly ingesting sacred hot cocoa and smoking sacred tabaco. In this state\, although Don David remains unharmed\, his physical body endures a heavy strain. \nWhen the night finishes and attendees leave\, his dedicated Recovery Team\, comprised of handpicked ritual support individuals\, plays a vital role. As the divine presence recedes and Grandfather departs from the physical realm\, this committed group guides Don David back into his body. The morning after the Grandfather Fires\, Don David awakens feeling discombobulated and spaced\, requiring time to reconnect with his extremities and regain a sense of physical presence. A strong hands-on therapeutic session and a day of focused recovery are key to shaking off the residual ethereal numbness\, allowing him to reestablish strength\, clarity\, and focus. \nThough Don David often jokes about the challenges of navigating our physical form—humor that echoes Grandfather Fire’s own playful jibes at human bodies when using Don David’s body as a vessel to speak to us during an audience—the recovery process remains an essential part of his work. It ensures that the extraordinary service he offers—allowing others to listen to the wisdom shared by the God of Fire—stays balanced and true\, ultimately enhancing the profound healing he brings to those he serves.
URL:https://keepsthefire.org/event/gff-recovery-day-apr20-25/
LOCATION:West Coast Hearth\, 1761 Sunset Ave.\, Santa Monica\, CA\, 90405\, United States
CATEGORIES:Grandfather Fire,Recovery Day
ATTACH;FMTTYPE=image/jpeg:https://keepsthefire.org/wp-content/uploads/2025/04/recovery-e1743731975402.jpg
END:VEVENT
BEGIN:VEVENT
DTSTART;TZID=America/Mexico_City:20250421T100000
DTEND;TZID=America/Mexico_City:20250421T190000
DTSTAMP:20260420T190028
CREATED:20250403T002910Z
LAST-MODIFIED:20250403T003200Z
UID:8617-1745229600-1745262000@keepsthefire.org
SUMMARY:In-Person Healing Day in Santa Monica\, California. USA
DESCRIPTION:An In-Person Healing Day with Don David Wiley offers a profound opportunity for individuals to engage in deep\, transformative healing rooted in ancient indigenous traditions. As an initiated healer in both the Nahua and Wixárika (Huichol) traditions of Mexico\, Don David brings a wealth of ancestral wisdom to address the complexities of modern life. \nDuring these sessions\, participants receive personalized attention tailored to their unique healing needs. Don David employs traditional shamanic practices to help individuals confront and release long-standing issues\, facilitating a reconnection with their inner selves and the natural world. This process often leads to significant shifts across physical\, emotional\, mental\, and spiritual domains. \nThe healing environment is further enriched by the presence of sacred elements such as Fire and the natural surroundings\, which are integral to the Wixárika healing tradition. These elements serve to support and amplify the healing process\, fostering a sense of balance and harmony. \nParticipants often report profound transformations\, including a renewed sense of purpose\, alleviation of emotional burdens\, and enhanced spiritual awareness. Engaging in a Healing Day with Don David Wiley provides not just temporary relief but also equips individuals with insights and practices for sustained well-being. \nContact Consultorio to schedule an appointment. \n 
URL:https://keepsthefire.org/event/px-day-lax-1-2025/
LOCATION:West Coast Hearth\, 1761 Sunset Ave.\, Santa Monica\, CA\, 90405\, United States
CATEGORIES:Healing Work,In-Person Healing Sessions,Wixárika Shamanic Healing,Wixárika Tradition
ATTACH;FMTTYPE=image/jpeg:https://keepsthefire.org/wp-content/uploads/2025/04/santa-monica.jpeg
ORGANIZER;CN="Don David Wiley's Consultorio":MAILTO:consultorio@keepsthefire.org
END:VEVENT
BEGIN:VEVENT
DTSTART;TZID=America/Mexico_City:20250422T100000
DTEND;TZID=America/Mexico_City:20250422T190000
DTSTAMP:20260420T190028
CREATED:20250403T003315Z
LAST-MODIFIED:20250403T011811Z
UID:8622-1745316000-1745348400@keepsthefire.org
SUMMARY:In-Person Healing Day in Santa Monica\, California. USA
DESCRIPTION:An In-Person Healing Day with Don David Wiley offers a profound opportunity for individuals to engage in deep\, transformative healing rooted in ancient indigenous traditions. As an initiated healer in both the Nahua and Wixárika (Huichol) traditions of Mexico\, Don David brings a wealth of ancestral wisdom to address the complexities of modern life. \nDuring these sessions\, participants receive personalized attention tailored to their unique healing needs. Don David employs traditional shamanic practices to help individuals confront and release long-standing issues\, facilitating a reconnection with their inner selves and the natural world. This process often leads to significant shifts across physical\, emotional\, mental\, and spiritual domains. \nThe healing environment is further enriched by the presence of sacred elements such as Fire and the natural surroundings\, which are integral to the Wixárika healing tradition. These elements serve to support and amplify the healing process\, fostering a sense of balance and harmony. \nParticipants often report profound transformations\, including a renewed sense of purpose\, alleviation of emotional burdens\, and enhanced spiritual awareness. Engaging in a Healing Day with Don David Wiley provides not just temporary relief but also equips individuals with insights and practices for sustained well-being. \nContact Consultorio to schedule an appointment. \n 
URL:https://keepsthefire.org/event/px-day-lax-2-2025/
LOCATION:West Coast Hearth\, 1761 Sunset Ave.\, Santa Monica\, CA\, 90405\, United States
CATEGORIES:Healing Work,In-Person Healing Sessions,Wixárika Shamanic Healing,Wixárika Tradition
ATTACH;FMTTYPE=image/jpeg:https://keepsthefire.org/wp-content/uploads/2025/04/santa-monica.jpeg
ORGANIZER;CN="Don David Wiley's Consultorio":MAILTO:consultorio@keepsthefire.org
END:VEVENT
BEGIN:VEVENT
DTSTART;VALUE=DATE:20250425
DTEND;VALUE=DATE:20250428
DTSTAMP:20260420T190028
CREATED:20250403T023651Z
LAST-MODIFIED:20250403T033247Z
UID:8651-1745539200-1745798399@keepsthefire.org
SUMMARY:Specialized Wixárika Ceremony
DESCRIPTION:This is a specialized closed event.\nHosted by Grupo Tatewarí.
URL:https://keepsthefire.org/event/specialized-wixarika-ceremony-apr-26/
LOCATION:Casa Xiuhtecuhtli\, La Presa 200\, Tepoztlan\, Morelos\, 62520\, Mexico
CATEGORIES:Traditions,Wixárika Ceremonies,Wixárika Tradition
ATTACH;FMTTYPE=image/jpeg:https://keepsthefire.org/wp-content/uploads/2025/04/tuki-e1743650840125.jpg
END:VEVENT
END:VCALENDAR