BEGIN:VCALENDAR
VERSION:2.0
PRODID:-//Keeps the Fire - ECPv6.15.20//NONSGML v1.0//EN
CALSCALE:GREGORIAN
METHOD:PUBLISH
X-ORIGINAL-URL:https://keepsthefire.org
X-WR-CALDESC:Events for Keeps the Fire
REFRESH-INTERVAL;VALUE=DURATION:PT1H
X-Robots-Tag:noindex
X-PUBLISHED-TTL:PT1H
BEGIN:VTIMEZONE
TZID:America/Mexico_City
BEGIN:STANDARD
TZOFFSETFROM:-0600
TZOFFSETTO:-0600
TZNAME:CST
DTSTART:20240101T000000
END:STANDARD
END:VTIMEZONE
BEGIN:VEVENT
DTSTART;TZID=America/Mexico_City:20250414T100000
DTEND;TZID=America/Mexico_City:20250414T180000
DTSTAMP:20260420T204241
CREATED:20250403T043520Z
LAST-MODIFIED:20250407T174752Z
UID:8718-1744624800-1744653600@keepsthefire.org
SUMMARY:In Service: Voluntary Mentorship & Guidance
DESCRIPTION:Mentoring Calls\nAs part of his sacred service\, Don David Wiley dedicates monthly and bi-weekly mentoring and counseling sessions to those who lead organizations and endeavors sparked by Grandfather Fire—such as Sacred Fire and its many branches of spiritual work. Though his time is incredibly limited\, Don David selflessly volunteers these sessions to ensure that the flame of Grandfather’s guidance continues to illuminate the path for others.\nHis mentorship helps anchor offerings like Firekeeping in alignment with Grandfather Fire’s wisdom. This support ensures that the reach of this medicine continues to expand\, making it available to all who feel the call of Fire stirring within them. \nWorking closely with long-time community members such as Annie King—who has been instrumental in designing and implementing the Firekeeping training programs\, facilitations\, and retreats—Don David continues to weave together a living legacy of support\, connection\, and transformation. \nHe also offers regular mentoring to the Executive Director of Sacred Fire\, helping navigate the complex responsibilities of leading such a revolutionary endeavor. Through this guidance\, the sacred work of reigniting humanity’s relationship with the medicine of Fire is sustained and strengthened. \nAdditionally\, Don David offers volunteer mentorship to the Tsantawu Men’s Council\, which oversees the biannual rituals at Stone Mountain. These rituals are dedicated to cultivating relationship with the land\, ancestral beings\, and the seasonal rains—a vital act of reciprocity and spiritual stewardship. \nThough unseen by many\, these efforts are essential threads in the living fabric of spiritual reconnection that Don David helps sustain. His dedication is a reminder that true leadership is rooted in service\, and that sacred work continues quietly and powerfully behind the scenes\, fueled by love\, commitment\, and the wisdom of Fire.
URL:https://keepsthefire.org/event/voluntary-work-apr-14-2025/
LOCATION:Council House – Carrollton\, Georgia\, 142 Hamp Chappell Rd\, Carrollton\, GA\, 30116\, United States
CATEGORIES:Grandfather Fire,Mentoring,Sacred Fire,Traditions,Volunteer Work
ATTACH;FMTTYPE=image/jpeg:https://keepsthefire.org/wp-content/uploads/2025/04/voluntary-work.jpg
ORGANIZER;CN="Don David Wiley's Consultorio":MAILTO:consultorio@keepsthefire.org
END:VEVENT
BEGIN:VEVENT
DTSTART;TZID=America/Mexico_City:20250414T160000
DTEND;TZID=America/Mexico_City:20250414T180000
DTSTAMP:20260420T204241
CREATED:20250403T202327Z
LAST-MODIFIED:20250407T173618Z
UID:8751-1744646400-1744653600@keepsthefire.org
SUMMARY:Postgrad Online Class Y2 S2
DESCRIPTION:This is a closed program\, available only to initiated Tepahtiani practitioners.\nTo become a Tepahtiani\, one must first be initiated as a Granicero.\nNow in its second year\, this ongoing online program offers Tepahtiani graduates a monthly space to ask questions\, deepen their practice\, and remain spiritually connected with Don David. \nIt is also a sacred opportunity for Don David to pass on the wisdom entrusted to him by Don Lucio Campos Elizalde\, as well as to share the guidance he receives from Tatewarí when he is in the workshop and Grandfather Fire speaks. \n  \n  \n\nIf you feel genuinely called to Weather Work\, please reach out to Alison Gayek\, Chief of the Graniceros:\n📧 workingforweather@keepsthefire.org \n 
URL:https://keepsthefire.org/event/postgrad-online-class-y2-s2/
LOCATION:Council House – Carrollton\, Georgia\, 142 Hamp Chappell Rd\, Carrollton\, GA\, 30116\, United States
CATEGORIES:Continuous Learning,Nahua Shamanic Healing,Nahua Tradition,Tepahtiani Classes,Traditions
ATTACH;FMTTYPE=image/png:https://keepsthefire.org/wp-content/uploads/2025/04/screenshot-2025-04-03-at-1.02.58p.m.png
ORGANIZER;CN="Don David Wiley's Consultorio":MAILTO:consultorio@keepsthefire.org
END:VEVENT
BEGIN:VEVENT
DTSTART;TZID=America/Mexico_City:20250415T100000
DTEND;TZID=America/Mexico_City:20250415T160000
DTSTAMP:20260420T204241
CREATED:20250403T044442Z
LAST-MODIFIED:20250407T180051Z
UID:8722-1744711200-1744732800@keepsthefire.org
SUMMARY:Continuous Education Prep - Traditional Medicine Paths
DESCRIPTION:Curriculum design & planning\nBridging the vast and often forgotten ancestral wisdom of indigenous traditions with the Western modern world is a monumental task in itself. Yet Don David Wiley has taken on this sacred mission\, facing countless ongoing challenges to design and deliver programs that are not only tangible and replicable\, but that carry the weight and authenticity of true spiritual teachings.\nWhat makes this even more profound is the care with which Don David ensures that what is shared is exactly what needs to be shared—stripped of anything superfluous or misleading\, and offered with clear intention. He has had to navigate the assumptions and filters of contemporary\, educated minds\, which often believe they already understand how life works. In contrast\, Don David invites students to unlearn\, to return to a deeper way of knowing rooted in direct relationship with Divine\, nature\, and the sacred. \nMuch of this knowledge was originally passed down through oral tradition—shared from one generation to the next\, in sacred trust. Don David has found powerful ways to bring these teachings into the modern world without compromising their essence. Surfing between realms\, he draws what is needed from the intangible into the tangible—bridging spirit and form with clarity and purpose. \nAfter his intense training\, apprenticeship\, and initiations with living teachers in both the Nahua and Wixárika traditions\, Don David has now successfully trained the first generations of Western shamanic healers: Tepahtiani & Mara’akate. These pioneers have taken their place in the living web of healing and service. \nToday\, Don David is supported by a devoted team in both traditions—people who are helping him structure what can now be recognized as a curriculum of spiritual training. These teachings span different levels of commitment and engagement\, guiding those whose souls are being called back to the basics: to ancestral knowledge\, lived wisdom\, and real practices that can restore balance\, not only within individuals\, but across communities\, lands\, and generations. \nWe offer our deepest gratitude to Don David’s teaching assistants\, who provide him with invaluable support and help carry this great work forward. A heartfelt shout-out to each of you—for the unseen and sacred service you embody. \n 
URL:https://keepsthefire.org/event/medpath-apr-15-2025/
LOCATION:Council House – Carrollton\, Georgia\, 142 Hamp Chappell Rd\, Carrollton\, GA\, 30116\, United States
CATEGORIES:Nahua Shamanic Healing,Traditions,Tuki Fiesta,Weather Work Ceremonies
ATTACH;FMTTYPE=image/jpeg:https://keepsthefire.org/wp-content/uploads/2025/04/ta-planing-e1743785677719.jpg
ORGANIZER;CN="Don David Wiley's Consultorio":MAILTO:consultorio@keepsthefire.org
END:VEVENT
BEGIN:VEVENT
DTSTART;VALUE=DATE:20250416
DTEND;VALUE=DATE:20250417
DTSTAMP:20260420T204241
CREATED:20250402T043243Z
LAST-MODIFIED:20250402T212120Z
UID:8375-1744761600-1744847999@keepsthefire.org
SUMMARY:Online Counseling Sessions Day
DESCRIPTION:Ancient Wisdom for Modern Lives\nOne of the greatest challenges Don David Wiley faced as a shaman in the Western world was bridging the profound wisdom of indigenous traditions with the realities of contemporary life. Shamanic healing is often misunderstood—its depth\, its simplicity\, and its transformative power. \nThrough decades of apprenticeship and practice\, Don David has mastered the art of healing\, weaving together the teachings of his mentors with living indigenous traditions. His work has touched lives across the globe\, offering clarity\, restoration\, and deep spiritual connection. \nYet one key insight has shaped how he serves Western seekers: We love to talk. We worry that if we don’t explain ourselves perfectly\, we won’t be understood. That’s why—whether you’ve had an in-person healing session or are simply called to explore shamanic wisdom—Don David now offers online consultations via Zoom. \nThese sessions provide guidance\, follow-up support\, or a deeper look into the spiritual forces at work or dormant in your life. No matter where you are in the world—or where Don David’s journey takes him—you can connect from the comfort of your home or office. \nAll you need is: \n✔ A computer or smartphone\n✔ A stable internet connection\n✔ A quiet\, private space\n✔ An appointment \nStep beyond the limits of distance and let ancient wisdom meet you exactly where you are. \n“True transformation doesn’t require proximity—only presence\, intention\, and an open heart.” —Don David Wiley \nBook your appointment.\nContact Consultorio
URL:https://keepsthefire.org/event/oc-apr-16-2025/
LOCATION:https://keepsthefire.org/event/oc-apr-16-2025/
CATEGORIES:Healing Work,Online Counseling
ATTACH;FMTTYPE=image/png:https://keepsthefire.org/wp-content/uploads/2025/04/online-counseling-header-4-5.png
ORGANIZER;CN="Don David Wiley's Consultorio":MAILTO:consultorio@keepsthefire.org
END:VEVENT
BEGIN:VEVENT
DTSTART;TZID=America/Mexico_City:20250417T100000
DTEND;TZID=America/Mexico_City:20250417T180000
DTSTAMP:20260420T204241
CREATED:20250404T174909Z
LAST-MODIFIED:20250407T174738Z
UID:8870-1744884000-1744912800@keepsthefire.org
SUMMARY:In Service: Voluntary Mentorship & Guidance
DESCRIPTION:Mentoring Calls\nAs part of his sacred service\, Don David Wiley dedicates monthly and bi-weekly mentoring and counseling sessions to those who lead organizations and endeavors sparked by Grandfather Fire—such as Sacred Fire and its many branches of spiritual work. Though his time is incredibly limited\, Don David selflessly volunteers these sessions to ensure that the flame of Grandfather’s guidance continues to illuminate the path for others.\nHis mentorship helps anchor offerings like Firekeeping in alignment with Grandfather Fire’s wisdom. This support ensures that the reach of this medicine continues to expand\, making it available to all who feel the call of Fire stirring within them. \nWorking closely with long-time community members such as Annie King—who has been instrumental in designing and implementing the Firekeeping training programs\, facilitations\, and retreats—Don David continues to weave together a living legacy of support\, connection\, and transformation. \nHe also offers regular mentoring to the Executive Director of Sacred Fire\, helping navigate the complex responsibilities of leading such a revolutionary endeavor. Through this guidance\, the sacred work of reigniting humanity’s relationship with the medicine of Fire is sustained and strengthened. \nAdditionally\, Don David offers volunteer mentorship to the Tsantawu Men’s Council\, which oversees the biannual rituals at Stone Mountain. These rituals are dedicated to cultivating relationship with the land\, ancestral beings\, and the seasonal rains—a vital act of reciprocity and spiritual stewardship. \nThough unseen by many\, these efforts are essential threads in the living fabric of spiritual reconnection that Don David helps sustain. His dedication is a reminder that true leadership is rooted in service\, and that sacred work continues quietly and powerfully behind the scenes\, fueled by love\, commitment\, and the wisdom of Fire.
URL:https://keepsthefire.org/event/vol-apr-17-2025/
LOCATION:Council House – Carrollton\, Georgia\, 142 Hamp Chappell Rd\, Carrollton\, GA\, 30116\, United States
CATEGORIES:Grandfather Fire,Mentoring,Sacred Fire,Traditions,Volunteer Work
ATTACH;FMTTYPE=image/jpeg:https://keepsthefire.org/wp-content/uploads/2025/04/voluntary-work.jpg
ORGANIZER;CN="Don David Wiley's Consultorio":MAILTO:consultorio@keepsthefire.org
END:VEVENT
BEGIN:VEVENT
DTSTART;VALUE=DATE:20250419
DTEND;VALUE=DATE:20250420
DTSTAMP:20260420T204241
CREATED:20250327T225458Z
LAST-MODIFIED:20250402T033540Z
UID:8246-1745020800-1745107199@keepsthefire.org
SUMMARY:Fire Speaks — Santa Monica\, CA. USA
DESCRIPTION:This is a public\, open event offered by Sacred Fire.\nFire knows no pretense. It warms. It transforms. It connects.\nJoin us to hear what the fire has to say.\nFire Speaks is a ceremonial gathering where participants seek guidance from Grandfather Fire—known as Tatewari among Mexico’s Indigenous Huichol people—to receive ancient wisdom and spiritual insights around the transformative presence of a sacred fire. \nGrandfather Fire in this form has offered guidance\, teachings\, and sacred stories to people worldwide for over two decades\, helping individuals navigate life’s challenges with clarity\, compassion\, and courage. Through sacred storytelling and spiritual insight\, this gathering provides a transformative experience that cuts through personal illusion and reveals new possibilities and deeper wisdom that can be practically applied in one’s life. \nParticipants consistently describe the experience as profound\, enlightening\, and heart-opening. For those feeling stuck or seeking meaningful change\, this gathering offers a unique opportunity for spiritual growth\, healing\, and personal transformation. \nGrandfather Fire’s teachings emerge as a beacon of timeless wisdom—cutting through doubt and confusion\, inviting participants to see beyond their current limitations and embrace a more expansive view. His penetrating perspective transcends momentary challenges\, offering a profound path to deeper understanding of ourselves and the world we live in. \nGrandfather Fire has been a friend and teacher to humans for 800\,000 years. You are invited to come sit around a sacred fire and receive Grandfather Fire’s wisdom and counsel as He answers our questions. \nYou may experience: \n\nConnection and community\nClarity and direction\nIncreased compassion\nCutting through personal illusions to see a broader worldview\nHeart-opening\nPathways to personal transformation\nNew possibilities for navigating life’s challenges\nFind out more information about this phenomenon by reading this article.\n\nWhat people are saying after attending Fire Speaks: \n“For days after\, I kept having these intense visualizations of fire\, and I was able to really “feel” the spirit of fire\, as something beyond simple burning wood and instead a primeval creative essence. The whole experience seemed to have set a seed deep in my psyche.” ~ Luke \n“Grandfather fire has called me to live more in my heart\, to be open to so many possibilities\, and most importantly\, to always think how I can serve others. This ancient practice is both simple and profound.” ~ Warren \n  \nThis is a Sacred Fire Fire Speaks event.\nHosted at the Kerner´s Hearth in Santa Monica by Alan and Amanda Kerner\, John Huang\, and Daniel Chazanas.
URL:https://keepsthefire.org/event/fire-speaks-santa-monica/
LOCATION:West Coast Hearth\, 1761 Sunset Ave.\, Santa Monica\, CA\, 90405\, United States
CATEGORIES:Fire Speaks,Sacred Fire,Traditions
ATTACH;FMTTYPE=image/png:https://keepsthefire.org/wp-content/uploads/2025/03/banner-santa-monica-fire.png
END:VEVENT
BEGIN:VEVENT
DTSTART;VALUE=DATE:20250420
DTEND;VALUE=DATE:20250422
DTSTAMP:20260420T204241
CREATED:20250403T005144Z
LAST-MODIFIED:20250407T225757Z
UID:8628-1745110800-1745197199@keepsthefire.org
SUMMARY:GFF Recovery Day
DESCRIPTION:Don David is not available on this day.\nDon David Wiley as a Conduit of the God of Fire\nDon David Wiley serves as a powerful conduit of the God of Fire. During his intense work\, when Tatewarí takes control of his being\, he is swept into a transcendent state—his body’s temperature soars\, and he enters a trance-like condition reminiscent of a deep\, ceremonial sleep. Meanwhile\, Grandfather Fire spends the night offering his wisdom—constantly ingesting sacred hot cocoa and smoking sacred tabaco. In this state\, although Don David remains unharmed\, his physical body endures a heavy strain. \nWhen the night finishes and attendees leave\, his dedicated Recovery Team\, comprised of handpicked ritual support individuals\, plays a vital role. As the divine presence recedes and Grandfather departs from the physical realm\, this committed group guides Don David back into his body. The morning after the Grandfather Fires\, Don David awakens feeling discombobulated and spaced\, requiring time to reconnect with his extremities and regain a sense of physical presence. A strong hands-on therapeutic session and a day of focused recovery are key to shaking off the residual ethereal numbness\, allowing him to reestablish strength\, clarity\, and focus. \nThough Don David often jokes about the challenges of navigating our physical form—humor that echoes Grandfather Fire’s own playful jibes at human bodies when using Don David’s body as a vessel to speak to us during an audience—the recovery process remains an essential part of his work. It ensures that the extraordinary service he offers—allowing others to listen to the wisdom shared by the God of Fire—stays balanced and true\, ultimately enhancing the profound healing he brings to those he serves.
URL:https://keepsthefire.org/event/gff-recovery-day-apr20-25/
LOCATION:West Coast Hearth\, 1761 Sunset Ave.\, Santa Monica\, CA\, 90405\, United States
CATEGORIES:Grandfather Fire,Recovery Day
ATTACH;FMTTYPE=image/jpeg:https://keepsthefire.org/wp-content/uploads/2025/04/recovery-e1743731975402.jpg
END:VEVENT
END:VCALENDAR