BEGIN:VCALENDAR
VERSION:2.0
PRODID:-//Keeps the Fire - ECPv6.15.20//NONSGML v1.0//EN
CALSCALE:GREGORIAN
METHOD:PUBLISH
X-WR-CALNAME:Keeps the Fire
X-ORIGINAL-URL:https://keepsthefire.org
X-WR-CALDESC:Events for Keeps the Fire
REFRESH-INTERVAL;VALUE=DURATION:PT1H
X-Robots-Tag:noindex
X-PUBLISHED-TTL:PT1H
BEGIN:VTIMEZONE
TZID:America/Mexico_City
BEGIN:STANDARD
TZOFFSETFROM:-0600
TZOFFSETTO:-0600
TZNAME:CST
DTSTART:20240101T000000
END:STANDARD
END:VTIMEZONE
BEGIN:VEVENT
DTSTART;TZID=America/Mexico_City:20250308T180000
DTEND;TZID=America/Mexico_City:20250309T010000
DTSTAMP:20260420T220749
CREATED:20250417T225042Z
LAST-MODIFIED:20250417T225042Z
UID:9083-1741456800-1741482000@keepsthefire.org
SUMMARY:Audience with Grandfather Fire: Sacred Fire - Board Meeting
DESCRIPTION:This is a closed audience hosted by Sacred Fire.
URL:https://keepsthefire.org/event/audience-with-grandfather-fire-sacred-fire-board-meeting-winter/
LOCATION:Council House – Carrollton\, Georgia\, 142 Hamp Chappell Rd\, Carrollton\, GA\, 30116\, United States
CATEGORIES:Firekeeping,Grandfather Fire,Open Audience,Sacred Fire,Traditions
ATTACH;FMTTYPE=image/jpeg:https://keepsthefire.org/wp-content/uploads/2025/04/gff-e1743732040321.jpg
END:VEVENT
END:VCALENDAR