BEGIN:VCALENDAR
VERSION:2.0
PRODID:-//Keeps the Fire - ECPv6.15.20//NONSGML v1.0//EN
CALSCALE:GREGORIAN
METHOD:PUBLISH
X-WR-CALNAME:Keeps the Fire
X-ORIGINAL-URL:https://keepsthefire.org
X-WR-CALDESC:Events for Keeps the Fire
REFRESH-INTERVAL;VALUE=DURATION:PT1H
X-Robots-Tag:noindex
X-PUBLISHED-TTL:PT1H
BEGIN:VTIMEZONE
TZID:America/Mexico_City
BEGIN:STANDARD
TZOFFSETFROM:-0600
TZOFFSETTO:-0600
TZNAME:CST
DTSTART:20230101T000000
END:STANDARD
END:VTIMEZONE
BEGIN:VEVENT
DTSTART;TZID=America/Mexico_City:20240822T080000
DTEND;TZID=America/Mexico_City:20240822T170000
DTSTAMP:20260421T073306
CREATED:20240729T212320Z
LAST-MODIFIED:20240729T212320Z
UID:8196-1724313600-1724346000@keepsthefire.org
SUMMARY:New Hampshire Healing Day
DESCRIPTION:Join us for a transformative healing experience with Don David Wiley\, a skilled practitioner in Nahua and Huichol health treatments.  \nDon David will be traveling to the West Coast for a special healing day\, followed by in-person appointments on **August 22** in New Hampshire. This is a unique opportunity for those on the West Coast\, as it will be the last chance this year to schedule a session with him. \nDon David’s work is rooted in ancient traditions\, offering profound healing and spiritual guidance. Don’t miss this chance to connect with his expertise and experience the benefits of traditional healing practices. \nTo secure your appointment\, please contact us at **consultorio@keepsthefire.org** and specify your preferred time for a morning or afternoon session.  \nWe look forward to welcoming you to this special healing day! \nCitations:\n[1] https://keepsthefire.org/contact-1/\n[2] https://keepsthefire.org\n[3] https://sacredfire.org/presenter/don-david-wiley-medium-for-the-spirit-of-fire/\n[4] https://www.sacredfireasheville.org\n[5] https://www.traditionalhealers.org
URL:https://keepsthefire.org/event/new-hampshire-healing-day/
LOCATION:Morelos
CATEGORIES:Healing Work
END:VEVENT
END:VCALENDAR