BEGIN:VCALENDAR
VERSION:2.0
PRODID:-//Keeps the Fire - ECPv6.15.20//NONSGML v1.0//EN
CALSCALE:GREGORIAN
METHOD:PUBLISH
X-WR-CALNAME:Keeps the Fire
X-ORIGINAL-URL:https://keepsthefire.org
X-WR-CALDESC:Events for Keeps the Fire
REFRESH-INTERVAL;VALUE=DURATION:PT1H
X-Robots-Tag:noindex
X-PUBLISHED-TTL:PT1H
BEGIN:VTIMEZONE
TZID:America/Mexico_City
BEGIN:DAYLIGHT
TZOFFSETFROM:-0600
TZOFFSETTO:-0500
TZNAME:CDT
DTSTART:20200405T080000
END:DAYLIGHT
BEGIN:STANDARD
TZOFFSETFROM:-0500
TZOFFSETTO:-0600
TZNAME:CST
DTSTART:20201025T070000
END:STANDARD
BEGIN:DAYLIGHT
TZOFFSETFROM:-0600
TZOFFSETTO:-0500
TZNAME:CDT
DTSTART:20210404T080000
END:DAYLIGHT
BEGIN:STANDARD
TZOFFSETFROM:-0500
TZOFFSETTO:-0600
TZNAME:CST
DTSTART:20211031T070000
END:STANDARD
BEGIN:DAYLIGHT
TZOFFSETFROM:-0600
TZOFFSETTO:-0500
TZNAME:CDT
DTSTART:20220403T080000
END:DAYLIGHT
BEGIN:STANDARD
TZOFFSETFROM:-0500
TZOFFSETTO:-0600
TZNAME:CST
DTSTART:20221030T070000
END:STANDARD
END:VTIMEZONE
BEGIN:VEVENT
DTSTART;TZID=America/Mexico_City:20240815T090000
DTEND;TZID=America/Mexico_City:20240815T183000
DTSTAMP:20260420T184010
CREATED:20240729T212103Z
LAST-MODIFIED:20240729T212103Z
UID:8193-1723712400-1723746600@keepsthefire.org
SUMMARY:Maggie Valley Healing Day
DESCRIPTION:Don’t miss this exceptional opportunity for healing with Don David Wiley in Maggie Valley on August 15! \nDon David Wiley\, a respected elder and healer in both the Nahua and Huichol traditions\, will be offering in-person healing appointments on the West Coast. This is your last chance this year to experience his profound healing work in this region. \nAs an initiated mara’akame in the Huichol tradition and a tepahtiani in the Nahua lineage\, Don David brings a wealth of ancestral wisdom and healing techniques[1][3]. His unique blend of traditional practices\, honed over decades of dedicated study and service\, offers a powerful opportunity for transformation and well-being[1][3]. \nDon David’s healing sessions are known for their ability to restore spiritual connections\, provide clarity\, and address both physical and emotional challenges[1]. His work has been described as life-changing by many who have experienced it[1]. \nTo schedule your appointment with Don David Wiley\, please email consultorio@keepsthefire.org. Given the rarity of this opportunity and Don David’s busy schedule\, it’s recommended to reach out as soon as possible to secure your spot[2]. \nDon’t let this chance for deep healing and spiritual growth pass you by. Connect with the ancestral wisdom of the Nahua and Huichol traditions through the skilled and compassionate guidance of Don David Wiley. \nCitations:\n[1] https://keepsthefire.org\n[2] https://keepsthefire.org/contact/\n[3] https://sacredfire.org/presenter/don-david-wiley-medium-for-the-spirit-of-fire/\n[4] https://sacredfire.org/event/firekeeper-training/\n[5] https://www.traditionalhealers.org
URL:https://keepsthefire.org/event/maggie-valley-healing-day/
LOCATION:Maggie Valley\, NC\, United States
CATEGORIES:Healing Work
END:VEVENT
BEGIN:VEVENT
DTSTART;TZID=America/Mexico_City:20240812T090000
DTEND;TZID=America/Mexico_City:20240812T173000
DTSTAMP:20260420T184010
CREATED:20240723T172938Z
LAST-MODIFIED:20240729T211423Z
UID:8127-1723453200-1723483800@keepsthefire.org
SUMMARY:Olympia Healing Day
DESCRIPTION:Join us for a rare opportunity to experience transformative healing with Don David Wiley on August 12 on the West Coast. As a respected elder in both the Nahua and Huichol shamanic traditions\, Don David offers profound healing sessions that draw upon ancient wisdom and practices[1][3]. \nDon David’s unique background as an initiated mara’akame (Huichol healer) and granicero (Nahua weather worker) allows him to provide powerful\, holistic healing experiences[3]. His sessions are known to address physical\, emotional\, and spiritual concerns\, helping individuals reconnect with their life purpose and inner wisdom[1]. \nThis will be Don David’s final West Coast visit this year\, making it an exceptional chance for those seeking deep healing and personal growth[5]. His appointments often lead to profound transformations\, with many reporting renewed clarity\, improved health\, and a stronger connection to the natural world[1][2]. \nTo secure your healing appointment with Don David Wiley on August 12\, please email consultorio@keepsthefire.org[5]. Don’t miss this unique opportunity to benefit from the ancestral wisdom and healing practices of the Nahua and Huichol traditions. \nCitations:\n[1] https://keepsthefire.org\n[2] https://sacredfire.org/event/fire-speaks-olympia-wa-2023/\n[3] https://sacredfire.org/presenter/don-david-wiley-medium-for-the-spirit-of-fire/\n[4] https://www.sacredfireasheville.org\n[5] https://www.traditionalhealers.org
URL:https://keepsthefire.org/event/olympia-healing-day/
LOCATION:GA
CATEGORIES:Healing Work
END:VEVENT
BEGIN:VEVENT
DTSTART;VALUE=DATE:20221201
DTEND;VALUE=DATE:20221203
DTSTAMP:20260420T184010
CREATED:20220819T024853Z
LAST-MODIFIED:20220819T024853Z
UID:7587-1669917600-1670003999@keepsthefire.org
SUMMARY:Healing Day in Tepoztlan
DESCRIPTION:
URL:https://keepsthefire.org/event/healing-day-in-tepoztlan/
LOCATION:Casa Xiuhtecuhtli\, La Presa 200\, Tepoztlan\, Morelos\, 62520\, Mexico
CATEGORIES:Healing Work
ATTACH;FMTTYPE=image/png:https://keepsthefire.org/wp-content/uploads/2022/08/3-december.png
END:VEVENT
BEGIN:VEVENT
DTSTART;VALUE=DATE:20221029
DTEND;VALUE=DATE:20221031
DTSTAMP:20260420T184010
CREATED:20220819T024506Z
LAST-MODIFIED:20220819T024709Z
UID:7585-1667070000-1667152799@keepsthefire.org
SUMMARY:Nahua Healing Day in Tepoztlan
DESCRIPTION:
URL:https://keepsthefire.org/event/nahua-healing-day-in-tepoztlan/
LOCATION:Casa Xiuhtecuhtli\, La Presa 200\, Tepoztlan\, Morelos\, 62520\, Mexico
CATEGORIES:Healing Work
ATTACH;FMTTYPE=image/png:https://keepsthefire.org/wp-content/uploads/2022/08/nahua4.png
END:VEVENT
BEGIN:VEVENT
DTSTART;VALUE=DATE:20220901
DTEND;VALUE=DATE:20220903
DTSTAMP:20260420T184010
CREATED:20220819T020302Z
LAST-MODIFIED:20220819T024932Z
UID:7548-1662058800-1662145199@keepsthefire.org
SUMMARY:Healing Day in Wilton New Hampshire
DESCRIPTION:
URL:https://keepsthefire.org/event/healing-day-in-wilton-new-hampshire/
LOCATION:New Hampshire Hearth\, NH\, United States
CATEGORIES:Healing Work
ATTACH;FMTTYPE=image/png:https://keepsthefire.org/wp-content/uploads/2022/08/newhampshire1.png
END:VEVENT
BEGIN:VEVENT
DTSTART;VALUE=DATE:20211202
DTEND;VALUE=DATE:20211204
DTSTAMP:20260420T184010
CREATED:20211124T043704Z
LAST-MODIFIED:20211124T043704Z
UID:6556-1638468000-1638554399@keepsthefire.org
SUMMARY:Healing Day December
DESCRIPTION:
URL:https://keepsthefire.org/event/healing-day-december/
LOCATION:Casa Xiuhtecuhtli\, La Presa 200\, Tepoztlan\, Morelos\, 62520\, Mexico
CATEGORIES:Healing Work
ATTACH;FMTTYPE=image/jpeg:https://keepsthefire.org/wp-content/uploads/2021/11/258866178_891432364891303_1211640784885163195_n.jpg
END:VEVENT
BEGIN:VEVENT
DTSTART;VALUE=DATE:20211104
DTEND;VALUE=DATE:20211106
DTSTAMP:20260420T184010
CREATED:20211124T043841Z
LAST-MODIFIED:20211124T043841Z
UID:6558-1636048800-1636135199@keepsthefire.org
SUMMARY:November Healing Day
DESCRIPTION:
URL:https://keepsthefire.org/event/november-healing-day/
LOCATION:GA
CATEGORIES:Healing Work
ATTACH;FMTTYPE=image/jpeg:https://keepsthefire.org/wp-content/uploads/2021/11/245088022_867395673961639_7714477786309368974_n.jpg
END:VEVENT
END:VCALENDAR